BEGIN:VCALENDAR
VERSION:2.0
METHOD:PUBLISH
BEGIN:VEVENT
UID:WILD_APRICOT_EVENT_2027173_SESSION_1
DTSTART:20151006T073000Z
DTEND:20151006T093000Z
SUMMARY:Term 4 Language Classes 2015 (session 1 of 9)
LOCATION:Melbourne University\, Hawthorn Campus.  442 Auburn Road\, Hawthorn\, Victoria\, 3122 (Melway 59 E2)
DESCRIPTION:https://www.aiav.org.au/event-2027173\n\nTerm 4 of our language classes commence on 6th October 2015 and the final class is on 8th December.    There will be no class on Melbourne Cup Day 3rd November.\n  9 classes in total\, each lasting 2 hours.   There are a number of class levels - if you are unsure which class you are in\, or if you believe your need to move levels\, please be in touch with our language team at language@aiav.org.au. \n  You must be a member:\n  Language Class Enrollment is available for AIAV members only.  If you are not yet a member\, click here to register as a member first\, then you may return to this page to enroll for class.  \n  Late enrollments (after beginning of term):\n  For members of the AIAV only\, who have been in touch with our Language team and made a payment agreement\, please login to the AIAV website and click on this link to access a partial term payment page.  Note: this page is not accessible unless you are both logged in\, and a member of the AIAV.   We reserve the right to reject\, and refund partial term payments made without prior agreement (as joining after start of term can create issues with lack of available places or class size).\n
DTSTAMP:20190228T032435Z
END:VEVENT
BEGIN:VEVENT
UID:WILD_APRICOT_EVENT_2027173_SESSION_2
DTSTART:20151013T073000Z
DTEND:20151013T093000Z
SUMMARY:Term 4 Language Classes 2015 (session 2 of 9)
LOCATION:Melbourne University\, Hawthorn Campus.  442 Auburn Road\, Hawthorn\, Victoria\, 3122 (Melway 59 E2)
DESCRIPTION:https://www.aiav.org.au/event-2027173\n\nTerm 4 of our language classes commence on 6th October 2015 and the final class is on 8th December.    There will be no class on Melbourne Cup Day 3rd November.\n  9 classes in total\, each lasting 2 hours.   There are a number of class levels - if you are unsure which class you are in\, or if you believe your need to move levels\, please be in touch with our language team at language@aiav.org.au. \n  You must be a member:\n  Language Class Enrollment is available for AIAV members only.  If you are not yet a member\, click here to register as a member first\, then you may return to this page to enroll for class.  \n  Late enrollments (after beginning of term):\n  For members of the AIAV only\, who have been in touch with our Language team and made a payment agreement\, please login to the AIAV website and click on this link to access a partial term payment page.  Note: this page is not accessible unless you are both logged in\, and a member of the AIAV.   We reserve the right to reject\, and refund partial term payments made without prior agreement (as joining after start of term can create issues with lack of available places or class size).\n
DTSTAMP:20190228T032435Z
END:VEVENT
BEGIN:VEVENT
UID:WILD_APRICOT_EVENT_2027173_SESSION_3
DTSTART:20151020T073000Z
DTEND:20151020T093000Z
SUMMARY:Term 4 Language Classes 2015 (session 3 of 9)
LOCATION:Melbourne University\, Hawthorn Campus.  442 Auburn Road\, Hawthorn\, Victoria\, 3122 (Melway 59 E2)
DESCRIPTION:https://www.aiav.org.au/event-2027173\n\nTerm 4 of our language classes commence on 6th October 2015 and the final class is on 8th December.    There will be no class on Melbourne Cup Day 3rd November.\n  9 classes in total\, each lasting 2 hours.   There are a number of class levels - if you are unsure which class you are in\, or if you believe your need to move levels\, please be in touch with our language team at language@aiav.org.au. \n  You must be a member:\n  Language Class Enrollment is available for AIAV members only.  If you are not yet a member\, click here to register as a member first\, then you may return to this page to enroll for class.  \n  Late enrollments (after beginning of term):\n  For members of the AIAV only\, who have been in touch with our Language team and made a payment agreement\, please login to the AIAV website and click on this link to access a partial term payment page.  Note: this page is not accessible unless you are both logged in\, and a member of the AIAV.   We reserve the right to reject\, and refund partial term payments made without prior agreement (as joining after start of term can create issues with lack of available places or class size).\n
DTSTAMP:20190228T032435Z
END:VEVENT
BEGIN:VEVENT
UID:WILD_APRICOT_EVENT_2027173_SESSION_4
DTSTART:20151027T073000Z
DTEND:20151027T093000Z
SUMMARY:Term 4 Language Classes 2015 (session 4 of 9)
LOCATION:Melbourne University\, Hawthorn Campus.  442 Auburn Road\, Hawthorn\, Victoria\, 3122 (Melway 59 E2)
DESCRIPTION:https://www.aiav.org.au/event-2027173\n\nTerm 4 of our language classes commence on 6th October 2015 and the final class is on 8th December.    There will be no class on Melbourne Cup Day 3rd November.\n  9 classes in total\, each lasting 2 hours.   There are a number of class levels - if you are unsure which class you are in\, or if you believe your need to move levels\, please be in touch with our language team at language@aiav.org.au. \n  You must be a member:\n  Language Class Enrollment is available for AIAV members only.  If you are not yet a member\, click here to register as a member first\, then you may return to this page to enroll for class.  \n  Late enrollments (after beginning of term):\n  For members of the AIAV only\, who have been in touch with our Language team and made a payment agreement\, please login to the AIAV website and click on this link to access a partial term payment page.  Note: this page is not accessible unless you are both logged in\, and a member of the AIAV.   We reserve the right to reject\, and refund partial term payments made without prior agreement (as joining after start of term can create issues with lack of available places or class size).\n
DTSTAMP:20190228T032435Z
END:VEVENT
BEGIN:VEVENT
UID:WILD_APRICOT_EVENT_2027173_SESSION_5
DTSTART:20151110T073000Z
DTEND:20151110T093000Z
SUMMARY:Term 4 Language Classes 2015 (session 5 of 9)
LOCATION:Melbourne University\, Hawthorn Campus.  442 Auburn Road\, Hawthorn\, Victoria\, 3122 (Melway 59 E2)
DESCRIPTION:https://www.aiav.org.au/event-2027173\n\nTerm 4 of our language classes commence on 6th October 2015 and the final class is on 8th December.    There will be no class on Melbourne Cup Day 3rd November.\n  9 classes in total\, each lasting 2 hours.   There are a number of class levels - if you are unsure which class you are in\, or if you believe your need to move levels\, please be in touch with our language team at language@aiav.org.au. \n  You must be a member:\n  Language Class Enrollment is available for AIAV members only.  If you are not yet a member\, click here to register as a member first\, then you may return to this page to enroll for class.  \n  Late enrollments (after beginning of term):\n  For members of the AIAV only\, who have been in touch with our Language team and made a payment agreement\, please login to the AIAV website and click on this link to access a partial term payment page.  Note: this page is not accessible unless you are both logged in\, and a member of the AIAV.   We reserve the right to reject\, and refund partial term payments made without prior agreement (as joining after start of term can create issues with lack of available places or class size).\n
DTSTAMP:20190228T032435Z
END:VEVENT
BEGIN:VEVENT
UID:WILD_APRICOT_EVENT_2027173_SESSION_6
DTSTART:20151117T073000Z
DTEND:20151117T093000Z
SUMMARY:Term 4 Language Classes 2015 (session 6 of 9)
LOCATION:Melbourne University\, Hawthorn Campus.  442 Auburn Road\, Hawthorn\, Victoria\, 3122 (Melway 59 E2)
DESCRIPTION:https://www.aiav.org.au/event-2027173\n\nTerm 4 of our language classes commence on 6th October 2015 and the final class is on 8th December.    There will be no class on Melbourne Cup Day 3rd November.\n  9 classes in total\, each lasting 2 hours.   There are a number of class levels - if you are unsure which class you are in\, or if you believe your need to move levels\, please be in touch with our language team at language@aiav.org.au. \n  You must be a member:\n  Language Class Enrollment is available for AIAV members only.  If you are not yet a member\, click here to register as a member first\, then you may return to this page to enroll for class.  \n  Late enrollments (after beginning of term):\n  For members of the AIAV only\, who have been in touch with our Language team and made a payment agreement\, please login to the AIAV website and click on this link to access a partial term payment page.  Note: this page is not accessible unless you are both logged in\, and a member of the AIAV.   We reserve the right to reject\, and refund partial term payments made without prior agreement (as joining after start of term can create issues with lack of available places or class size).\n
DTSTAMP:20190228T032435Z
END:VEVENT
BEGIN:VEVENT
UID:WILD_APRICOT_EVENT_2027173_SESSION_7
DTSTART:20151124T073000Z
DTEND:20151124T093000Z
SUMMARY:Term 4 Language Classes 2015 (session 7 of 9)
LOCATION:Melbourne University\, Hawthorn Campus.  442 Auburn Road\, Hawthorn\, Victoria\, 3122 (Melway 59 E2)
DESCRIPTION:https://www.aiav.org.au/event-2027173\n\nTerm 4 of our language classes commence on 6th October 2015 and the final class is on 8th December.    There will be no class on Melbourne Cup Day 3rd November.\n  9 classes in total\, each lasting 2 hours.   There are a number of class levels - if you are unsure which class you are in\, or if you believe your need to move levels\, please be in touch with our language team at language@aiav.org.au. \n  You must be a member:\n  Language Class Enrollment is available for AIAV members only.  If you are not yet a member\, click here to register as a member first\, then you may return to this page to enroll for class.  \n  Late enrollments (after beginning of term):\n  For members of the AIAV only\, who have been in touch with our Language team and made a payment agreement\, please login to the AIAV website and click on this link to access a partial term payment page.  Note: this page is not accessible unless you are both logged in\, and a member of the AIAV.   We reserve the right to reject\, and refund partial term payments made without prior agreement (as joining after start of term can create issues with lack of available places or class size).\n
DTSTAMP:20190228T032435Z
END:VEVENT
BEGIN:VEVENT
UID:WILD_APRICOT_EVENT_2027173_SESSION_8
DTSTART:20151201T073000Z
DTEND:20151201T093000Z
SUMMARY:Term 4 Language Classes 2015 (session 8 of 9)
LOCATION:Melbourne University\, Hawthorn Campus.  442 Auburn Road\, Hawthorn\, Victoria\, 3122 (Melway 59 E2)
DESCRIPTION:https://www.aiav.org.au/event-2027173\n\nTerm 4 of our language classes commence on 6th October 2015 and the final class is on 8th December.    There will be no class on Melbourne Cup Day 3rd November.\n  9 classes in total\, each lasting 2 hours.   There are a number of class levels - if you are unsure which class you are in\, or if you believe your need to move levels\, please be in touch with our language team at language@aiav.org.au. \n  You must be a member:\n  Language Class Enrollment is available for AIAV members only.  If you are not yet a member\, click here to register as a member first\, then you may return to this page to enroll for class.  \n  Late enrollments (after beginning of term):\n  For members of the AIAV only\, who have been in touch with our Language team and made a payment agreement\, please login to the AIAV website and click on this link to access a partial term payment page.  Note: this page is not accessible unless you are both logged in\, and a member of the AIAV.   We reserve the right to reject\, and refund partial term payments made without prior agreement (as joining after start of term can create issues with lack of available places or class size).\n
DTSTAMP:20190228T032435Z
END:VEVENT
BEGIN:VEVENT
UID:WILD_APRICOT_EVENT_2027173_SESSION_9
DTSTART:20151208T073000Z
DTEND:20151208T093000Z
SUMMARY:Term 4 Language Classes 2015 (session 9 of 9)
LOCATION:Melbourne University\, Hawthorn Campus.  442 Auburn Road\, Hawthorn\, Victoria\, 3122 (Melway 59 E2)
DESCRIPTION:https://www.aiav.org.au/event-2027173\n\nTerm 4 of our language classes commence on 6th October 2015 and the final class is on 8th December.    There will be no class on Melbourne Cup Day 3rd November.\n  9 classes in total\, each lasting 2 hours.   There are a number of class levels - if you are unsure which class you are in\, or if you believe your need to move levels\, please be in touch with our language team at language@aiav.org.au. \n  You must be a member:\n  Language Class Enrollment is available for AIAV members only.  If you are not yet a member\, click here to register as a member first\, then you may return to this page to enroll for class.  \n  Late enrollments (after beginning of term):\n  For members of the AIAV only\, who have been in touch with our Language team and made a payment agreement\, please login to the AIAV website and click on this link to access a partial term payment page.  Note: this page is not accessible unless you are both logged in\, and a member of the AIAV.   We reserve the right to reject\, and refund partial term payments made without prior agreement (as joining after start of term can create issues with lack of available places or class size).\n
DTSTAMP:20190228T032435Z
END:VEVENT
END:VCALENDAR
