BEGIN:VCALENDAR
VERSION:2.0
METHOD:PUBLISH
BEGIN:VEVENT
UID:WILD_APRICOT_EVENT_2036408_SESSION_1
DTSTART:20150911T100000Z
DTEND:20150911T120000Z
SUMMARY:Malam Ngobrol Sept15
LOCATION:The home of Karina Noontil\, 2/11 Middlesex Rd\, Surrey Hills 3127 Melway Ref: 46 F11/12
DESCRIPTION:https://www.aiav.org.au/event-2036408\n\nThis is our regular monthly conversation evening\, and an opportunity to practice your Bahasa Indonesia in a social situation.   Suitable for total beginners\, through seasoned experts.   Usually we have a few native speakers attend also.  \nLocation info from Karina:  My unit is the middle unit of three on the block and is only 5 mins walk from Chatham Station on the Belgrave Lilydale line (out of the station turn south\, cross Canterbury Rd\, head east and Middlesex Rd is on your right) or 10 – 15 mins walk from Stop No 52 on the Wattle Park Tram line (No 70) in Riversdale Rd. (Middlesex Rd is the next left from the stop and my place is down the other end of the street.) Please bring something small to share for supper.\n\n  \n\n
DTSTAMP:20190228T032446Z
END:VEVENT
END:VCALENDAR
