BEGIN:VCALENDAR
VERSION:2.0
METHOD:PUBLISH
BEGIN:VEVENT
UID:WILD_APRICOT_EVENT_2084503_SESSION_1
DTSTART:20151120T083000Z
DTEND:20151120T103000Z
SUMMARY:Makutharama: A Javanese shadow puppet play
LOCATION:72 Queens Lane\, Melbourne (Melway 2L B12)
DESCRIPTION:https://www.aiav.org.au/event-2084503\n\nPresented by PERMAI\, the gamelan orchestra of the Australian Indonesian Association of Victoria Inc.\n  Puppeteer: Helen Pausacker\n  Director of Music: Ki Poedijono O.A.M.\n  Admission free\, children welcome.\n\n  Donations will be accepted for Surfaid Sumba\n  Sponsored by AIAV\, KJRI and Surfaid Sumba\n  \n\n  Location:\n  \n\n
DTSTAMP:20190228T032413Z
END:VEVENT
END:VCALENDAR
