BEGIN:VCALENDAR
VERSION:2.0
METHOD:PUBLISH
BEGIN:VEVENT
UID:WILD_APRICOT_EVENT_2160942_SESSION_1
DTSTART:20160227T020000Z
DTEND:20160227T040000Z
SUMMARY:Meeting of the Jembatan Poetry Society
LOCATION:Pavillion Cafe\, Fitzroy Gardens\, East Melbourne
DESCRIPTION:https://www.aiav.org.au/event-2160942\n\nMeeting of the Jembatan Poetry Society  \n\n
DTSTAMP:20190228T032336Z
END:VEVENT
END:VCALENDAR
