BEGIN:VCALENDAR
VERSION:2.0
METHOD:PUBLISH
BEGIN:VEVENT
UID:WILD_APRICOT_EVENT_2160943_SESSION_1
DTSTART:20160205T090000Z
DTEND:20160205T100000Z
SUMMARY:Radio Kita\, interview with Adeish
LOCATION:92.3FM
DESCRIPTION:https://www.aiav.org.au/event-2160943\n\nRadio Kita\, interview with Adeish about the difference between Indonesian and Western music. www.adeishs.com  \n\n
DTSTAMP:20190228T032401Z
END:VEVENT
END:VCALENDAR
