BEGIN:VCALENDAR
VERSION:2.0
METHOD:PUBLISH
BEGIN:VEVENT
UID:WILD_APRICOT_EVENT_2160945_SESSION_1
DTSTART:20160314T010000Z
DTEND:20160314T050000Z
SUMMARY:Forum Komunikasi Komunitas Indonesia
LOCATION:72 Clayton Rd\, Clayton
DESCRIPTION:https://www.aiav.org.au/event-2160945\n\nForum Komunikasi Komunitas Indonesia  \n\n
DTSTAMP:20190228T032325Z
END:VEVENT
END:VCALENDAR
