BEGIN:VCALENDAR
VERSION:2.0
METHOD:PUBLISH
BEGIN:VEVENT
UID:WILD_APRICOT_EVENT_2160947_SESSION_1
DTSTART:20160404T070000Z
DTEND:20160404T100000Z
SUMMARY:Paskah / Easter Service
LOCATION:Gereja Reformed Injil Indonesia\, 552 City Rd\, Southbank
DESCRIPTION:https://www.aiav.org.au/event-2160947\n\nPaskah / Easter  \n\n
DTSTAMP:20190228T032314Z
END:VEVENT
END:VCALENDAR
