BEGIN:VCALENDAR
VERSION:2.0
METHOD:PUBLISH
BEGIN:VEVENT
UID:WILD_APRICOT_EVENT_2160949_SESSION_1
DTSTART:20160508T010000Z
DTEND:20160508T070000Z
SUMMARY:Satay Festival
LOCATION:Box Hill Town Hall\, Box Hill
DESCRIPTION:https://www.aiav.org.au/event-2160949\n\nSatay Festival - Box Hill Town Hall.  \n\n
DTSTAMP:20190228T032250Z
END:VEVENT
END:VCALENDAR
