BEGIN:VCALENDAR
VERSION:2.0
METHOD:PUBLISH
BEGIN:VEVENT
UID:WILD_APRICOT_EVENT_2166271_SESSION_1
DTSTART:20160412T083000Z
DTEND:20160412T103000Z
SUMMARY:Term 2 Language Classes 2016 (session 1 of 11)
LOCATION:Melbourne University\, Hawthorn Campus.  442 Auburn Road\, Hawthorn\, Victoria\, 3122 (Melway 59 E2)
DESCRIPTION:https://www.aiav.org.au/event-2166271\n\nTerm 2 of our language classes commence on 12 April 2016 and the final class is on 21 June. \n  There are 11 classes in total\, each lasting 2 hours. There are a number of class levels. If you are unsure which class you should be in\, or if you believe your need to move levels\, please contact our language team at language@aiav.org.au. \n  It is essential that participants in the beginners class attend from the first week of term.\n  You must be a member:\n  Language class enrolment is available for AIAV members only. If you are not yet a member\, click here to register as a member first. Then return to this page to enrol for classes. \n  Variable registration (part of a term):\n  This option is for AIAV members who cannot attend a full term of classes. It is essential that you first discuss this with our language team (email language@aiav.org.au) and make a payment agreement. \n  This option is not available for those starting the Beginner level class. \n\n  After logging in\, click on this link to access the partial term payment page and pay for the number of classes you will be attending. This page is not accessible unless you are an AIAV member and are logged in. \n  AIAV reserves the right to reject and refund partial term payments made without prior agreement.\n\n
DTSTAMP:20190228T032302Z
END:VEVENT
BEGIN:VEVENT
UID:WILD_APRICOT_EVENT_2166271_SESSION_2
DTSTART:20160419T083000Z
DTEND:20160419T103000Z
SUMMARY:Term 2 Language Classes 2016 (session 2 of 11)
LOCATION:Melbourne University\, Hawthorn Campus.  442 Auburn Road\, Hawthorn\, Victoria\, 3122 (Melway 59 E2)
DESCRIPTION:https://www.aiav.org.au/event-2166271\n\nTerm 2 of our language classes commence on 12 April 2016 and the final class is on 21 June. \n  There are 11 classes in total\, each lasting 2 hours. There are a number of class levels. If you are unsure which class you should be in\, or if you believe your need to move levels\, please contact our language team at language@aiav.org.au. \n  It is essential that participants in the beginners class attend from the first week of term.\n  You must be a member:\n  Language class enrolment is available for AIAV members only. If you are not yet a member\, click here to register as a member first. Then return to this page to enrol for classes. \n  Variable registration (part of a term):\n  This option is for AIAV members who cannot attend a full term of classes. It is essential that you first discuss this with our language team (email language@aiav.org.au) and make a payment agreement. \n  This option is not available for those starting the Beginner level class. \n\n  After logging in\, click on this link to access the partial term payment page and pay for the number of classes you will be attending. This page is not accessible unless you are an AIAV member and are logged in. \n  AIAV reserves the right to reject and refund partial term payments made without prior agreement.\n\n
DTSTAMP:20190228T032302Z
END:VEVENT
BEGIN:VEVENT
UID:WILD_APRICOT_EVENT_2166271_SESSION_3
DTSTART:20160426T083000Z
DTEND:20160426T103000Z
SUMMARY:Term 2 Language Classes 2016 (session 3 of 11)
LOCATION:Melbourne University\, Hawthorn Campus.  442 Auburn Road\, Hawthorn\, Victoria\, 3122 (Melway 59 E2)
DESCRIPTION:https://www.aiav.org.au/event-2166271\n\nTerm 2 of our language classes commence on 12 April 2016 and the final class is on 21 June. \n  There are 11 classes in total\, each lasting 2 hours. There are a number of class levels. If you are unsure which class you should be in\, or if you believe your need to move levels\, please contact our language team at language@aiav.org.au. \n  It is essential that participants in the beginners class attend from the first week of term.\n  You must be a member:\n  Language class enrolment is available for AIAV members only. If you are not yet a member\, click here to register as a member first. Then return to this page to enrol for classes. \n  Variable registration (part of a term):\n  This option is for AIAV members who cannot attend a full term of classes. It is essential that you first discuss this with our language team (email language@aiav.org.au) and make a payment agreement. \n  This option is not available for those starting the Beginner level class. \n\n  After logging in\, click on this link to access the partial term payment page and pay for the number of classes you will be attending. This page is not accessible unless you are an AIAV member and are logged in. \n  AIAV reserves the right to reject and refund partial term payments made without prior agreement.\n\n
DTSTAMP:20190228T032302Z
END:VEVENT
BEGIN:VEVENT
UID:WILD_APRICOT_EVENT_2166271_SESSION_4
DTSTART:20160503T083000Z
DTEND:20160503T103000Z
SUMMARY:Term 2 Language Classes 2016 (session 4 of 11)
LOCATION:Melbourne University\, Hawthorn Campus.  442 Auburn Road\, Hawthorn\, Victoria\, 3122 (Melway 59 E2)
DESCRIPTION:https://www.aiav.org.au/event-2166271\n\nTerm 2 of our language classes commence on 12 April 2016 and the final class is on 21 June. \n  There are 11 classes in total\, each lasting 2 hours. There are a number of class levels. If you are unsure which class you should be in\, or if you believe your need to move levels\, please contact our language team at language@aiav.org.au. \n  It is essential that participants in the beginners class attend from the first week of term.\n  You must be a member:\n  Language class enrolment is available for AIAV members only. If you are not yet a member\, click here to register as a member first. Then return to this page to enrol for classes. \n  Variable registration (part of a term):\n  This option is for AIAV members who cannot attend a full term of classes. It is essential that you first discuss this with our language team (email language@aiav.org.au) and make a payment agreement. \n  This option is not available for those starting the Beginner level class. \n\n  After logging in\, click on this link to access the partial term payment page and pay for the number of classes you will be attending. This page is not accessible unless you are an AIAV member and are logged in. \n  AIAV reserves the right to reject and refund partial term payments made without prior agreement.\n\n
DTSTAMP:20190228T032302Z
END:VEVENT
BEGIN:VEVENT
UID:WILD_APRICOT_EVENT_2166271_SESSION_5
DTSTART:20160510T083000Z
DTEND:20160510T103000Z
SUMMARY:Term 2 Language Classes 2016 (session 5 of 11)
LOCATION:Melbourne University\, Hawthorn Campus.  442 Auburn Road\, Hawthorn\, Victoria\, 3122 (Melway 59 E2)
DESCRIPTION:https://www.aiav.org.au/event-2166271\n\nTerm 2 of our language classes commence on 12 April 2016 and the final class is on 21 June. \n  There are 11 classes in total\, each lasting 2 hours. There are a number of class levels. If you are unsure which class you should be in\, or if you believe your need to move levels\, please contact our language team at language@aiav.org.au. \n  It is essential that participants in the beginners class attend from the first week of term.\n  You must be a member:\n  Language class enrolment is available for AIAV members only. If you are not yet a member\, click here to register as a member first. Then return to this page to enrol for classes. \n  Variable registration (part of a term):\n  This option is for AIAV members who cannot attend a full term of classes. It is essential that you first discuss this with our language team (email language@aiav.org.au) and make a payment agreement. \n  This option is not available for those starting the Beginner level class. \n\n  After logging in\, click on this link to access the partial term payment page and pay for the number of classes you will be attending. This page is not accessible unless you are an AIAV member and are logged in. \n  AIAV reserves the right to reject and refund partial term payments made without prior agreement.\n\n
DTSTAMP:20190228T032302Z
END:VEVENT
BEGIN:VEVENT
UID:WILD_APRICOT_EVENT_2166271_SESSION_6
DTSTART:20160517T083000Z
DTEND:20160517T103000Z
SUMMARY:Term 2 Language Classes 2016 (session 6 of 11)
LOCATION:Melbourne University\, Hawthorn Campus.  442 Auburn Road\, Hawthorn\, Victoria\, 3122 (Melway 59 E2)
DESCRIPTION:https://www.aiav.org.au/event-2166271\n\nTerm 2 of our language classes commence on 12 April 2016 and the final class is on 21 June. \n  There are 11 classes in total\, each lasting 2 hours. There are a number of class levels. If you are unsure which class you should be in\, or if you believe your need to move levels\, please contact our language team at language@aiav.org.au. \n  It is essential that participants in the beginners class attend from the first week of term.\n  You must be a member:\n  Language class enrolment is available for AIAV members only. If you are not yet a member\, click here to register as a member first. Then return to this page to enrol for classes. \n  Variable registration (part of a term):\n  This option is for AIAV members who cannot attend a full term of classes. It is essential that you first discuss this with our language team (email language@aiav.org.au) and make a payment agreement. \n  This option is not available for those starting the Beginner level class. \n\n  After logging in\, click on this link to access the partial term payment page and pay for the number of classes you will be attending. This page is not accessible unless you are an AIAV member and are logged in. \n  AIAV reserves the right to reject and refund partial term payments made without prior agreement.\n\n
DTSTAMP:20190228T032302Z
END:VEVENT
BEGIN:VEVENT
UID:WILD_APRICOT_EVENT_2166271_SESSION_7
DTSTART:20160524T083000Z
DTEND:20160524T103000Z
SUMMARY:Term 2 Language Classes 2016 (session 7 of 11)
LOCATION:Melbourne University\, Hawthorn Campus.  442 Auburn Road\, Hawthorn\, Victoria\, 3122 (Melway 59 E2)
DESCRIPTION:https://www.aiav.org.au/event-2166271\n\nTerm 2 of our language classes commence on 12 April 2016 and the final class is on 21 June. \n  There are 11 classes in total\, each lasting 2 hours. There are a number of class levels. If you are unsure which class you should be in\, or if you believe your need to move levels\, please contact our language team at language@aiav.org.au. \n  It is essential that participants in the beginners class attend from the first week of term.\n  You must be a member:\n  Language class enrolment is available for AIAV members only. If you are not yet a member\, click here to register as a member first. Then return to this page to enrol for classes. \n  Variable registration (part of a term):\n  This option is for AIAV members who cannot attend a full term of classes. It is essential that you first discuss this with our language team (email language@aiav.org.au) and make a payment agreement. \n  This option is not available for those starting the Beginner level class. \n\n  After logging in\, click on this link to access the partial term payment page and pay for the number of classes you will be attending. This page is not accessible unless you are an AIAV member and are logged in. \n  AIAV reserves the right to reject and refund partial term payments made without prior agreement.\n\n
DTSTAMP:20190228T032302Z
END:VEVENT
BEGIN:VEVENT
UID:WILD_APRICOT_EVENT_2166271_SESSION_8
DTSTART:20160531T083000Z
DTEND:20160531T103000Z
SUMMARY:Term 2 Language Classes 2016 (session 8 of 11)
LOCATION:Melbourne University\, Hawthorn Campus.  442 Auburn Road\, Hawthorn\, Victoria\, 3122 (Melway 59 E2)
DESCRIPTION:https://www.aiav.org.au/event-2166271\n\nTerm 2 of our language classes commence on 12 April 2016 and the final class is on 21 June. \n  There are 11 classes in total\, each lasting 2 hours. There are a number of class levels. If you are unsure which class you should be in\, or if you believe your need to move levels\, please contact our language team at language@aiav.org.au. \n  It is essential that participants in the beginners class attend from the first week of term.\n  You must be a member:\n  Language class enrolment is available for AIAV members only. If you are not yet a member\, click here to register as a member first. Then return to this page to enrol for classes. \n  Variable registration (part of a term):\n  This option is for AIAV members who cannot attend a full term of classes. It is essential that you first discuss this with our language team (email language@aiav.org.au) and make a payment agreement. \n  This option is not available for those starting the Beginner level class. \n\n  After logging in\, click on this link to access the partial term payment page and pay for the number of classes you will be attending. This page is not accessible unless you are an AIAV member and are logged in. \n  AIAV reserves the right to reject and refund partial term payments made without prior agreement.\n\n
DTSTAMP:20190228T032302Z
END:VEVENT
BEGIN:VEVENT
UID:WILD_APRICOT_EVENT_2166271_SESSION_9
DTSTART:20160607T083000Z
DTEND:20160607T103000Z
SUMMARY:Term 2 Language Classes 2016 (session 9 of 11)
LOCATION:Melbourne University\, Hawthorn Campus.  442 Auburn Road\, Hawthorn\, Victoria\, 3122 (Melway 59 E2)
DESCRIPTION:https://www.aiav.org.au/event-2166271\n\nTerm 2 of our language classes commence on 12 April 2016 and the final class is on 21 June. \n  There are 11 classes in total\, each lasting 2 hours. There are a number of class levels. If you are unsure which class you should be in\, or if you believe your need to move levels\, please contact our language team at language@aiav.org.au. \n  It is essential that participants in the beginners class attend from the first week of term.\n  You must be a member:\n  Language class enrolment is available for AIAV members only. If you are not yet a member\, click here to register as a member first. Then return to this page to enrol for classes. \n  Variable registration (part of a term):\n  This option is for AIAV members who cannot attend a full term of classes. It is essential that you first discuss this with our language team (email language@aiav.org.au) and make a payment agreement. \n  This option is not available for those starting the Beginner level class. \n\n  After logging in\, click on this link to access the partial term payment page and pay for the number of classes you will be attending. This page is not accessible unless you are an AIAV member and are logged in. \n  AIAV reserves the right to reject and refund partial term payments made without prior agreement.\n\n
DTSTAMP:20190228T032302Z
END:VEVENT
BEGIN:VEVENT
UID:WILD_APRICOT_EVENT_2166271_SESSION_10
DTSTART:20160614T083000Z
DTEND:20160614T103000Z
SUMMARY:Term 2 Language Classes 2016 (session 10 of 11)
LOCATION:Melbourne University\, Hawthorn Campus.  442 Auburn Road\, Hawthorn\, Victoria\, 3122 (Melway 59 E2)
DESCRIPTION:https://www.aiav.org.au/event-2166271\n\nTerm 2 of our language classes commence on 12 April 2016 and the final class is on 21 June. \n  There are 11 classes in total\, each lasting 2 hours. There are a number of class levels. If you are unsure which class you should be in\, or if you believe your need to move levels\, please contact our language team at language@aiav.org.au. \n  It is essential that participants in the beginners class attend from the first week of term.\n  You must be a member:\n  Language class enrolment is available for AIAV members only. If you are not yet a member\, click here to register as a member first. Then return to this page to enrol for classes. \n  Variable registration (part of a term):\n  This option is for AIAV members who cannot attend a full term of classes. It is essential that you first discuss this with our language team (email language@aiav.org.au) and make a payment agreement. \n  This option is not available for those starting the Beginner level class. \n\n  After logging in\, click on this link to access the partial term payment page and pay for the number of classes you will be attending. This page is not accessible unless you are an AIAV member and are logged in. \n  AIAV reserves the right to reject and refund partial term payments made without prior agreement.\n\n
DTSTAMP:20190228T032302Z
END:VEVENT
BEGIN:VEVENT
UID:WILD_APRICOT_EVENT_2166271_SESSION_11
DTSTART:20160621T083000Z
DTEND:20160621T103000Z
SUMMARY:Term 2 Language Classes 2016 (session 11 of 11)
LOCATION:Melbourne University\, Hawthorn Campus.  442 Auburn Road\, Hawthorn\, Victoria\, 3122 (Melway 59 E2)
DESCRIPTION:https://www.aiav.org.au/event-2166271\n\nTerm 2 of our language classes commence on 12 April 2016 and the final class is on 21 June. \n  There are 11 classes in total\, each lasting 2 hours. There are a number of class levels. If you are unsure which class you should be in\, or if you believe your need to move levels\, please contact our language team at language@aiav.org.au. \n  It is essential that participants in the beginners class attend from the first week of term.\n  You must be a member:\n  Language class enrolment is available for AIAV members only. If you are not yet a member\, click here to register as a member first. Then return to this page to enrol for classes. \n  Variable registration (part of a term):\n  This option is for AIAV members who cannot attend a full term of classes. It is essential that you first discuss this with our language team (email language@aiav.org.au) and make a payment agreement. \n  This option is not available for those starting the Beginner level class. \n\n  After logging in\, click on this link to access the partial term payment page and pay for the number of classes you will be attending. This page is not accessible unless you are an AIAV member and are logged in. \n  AIAV reserves the right to reject and refund partial term payments made without prior agreement.\n\n
DTSTAMP:20190228T032302Z
END:VEVENT
END:VCALENDAR
