BEGIN:VCALENDAR
VERSION:2.0
METHOD:PUBLISH
BEGIN:VEVENT
UID:WILD_APRICOT_EVENT_2238909_SESSION_1
DTSTART:20160521T090000Z
DTEND:20160521T120000Z
SUMMARY:Malam Ngobrol Mei
LOCATION:Blue Chillies restaurant\, 182 Brunswick Street\, Fitzroy
DESCRIPTION:https://www.aiav.org.au/event-2238909\n\nOur monthly opportunity to chat (mengobrol) with other members and guests in Indonesian while sharing some food and drink.\n  This month\, the meeting is held jointly with Jembatan Poetry Society.\n  To RSVP\, please contact Karina by phone by Monday 16 May.\n
DTSTAMP:20190228T032239Z
END:VEVENT
END:VCALENDAR
