BEGIN:VCALENDAR
VERSION:2.0
METHOD:PUBLISH
BEGIN:VEVENT
UID:WILD_APRICOT_EVENT_2276636_SESSION_1
DTSTART:20161112T070000Z
DTEND:20161112T110000Z
SUMMARY:AIAV 60th Anniversary Dinner
LOCATION:Amora Hotel\, Bridge Yarra Room\, 649 Bridge Road\, Richmond
DESCRIPTION:https://www.aiav.org.au/event-2276636\n\nRegistrations for this event are now closed.\n  AIAV is celebrating its 60th anniversary this year\, and we invite you to come to the party!\n  It will be a night of great food\, fun\, reflection and entertainment with an Indonesian buffet style meal (including vegetarian options)\, live Indonesian and contemporary music and traditional dance\, photographs and guest speakers. \n  If that's not enough to tempt you\, door prizes include two return airfares to Indonesia\, an iPad Mini\, and a restaurant and wine voucher! \n  It will be a fantastic way to celebrate 60 years of the Australian Indonesian Association of Victoria\, so come and join us! \n  Ticket prices are $30 per head for members\, $40 for non-member guests.\n  For more information\, please email David Copeland at david.copeland@team.telstra.com.\n\n  Booking is essential\, and seats are limited\, so get in quick! \n\n  Online booking is preferred. If you are unable to book online\, please contact:\nTesna 0406 947 136\n David 0400 986 774\n
DTSTAMP:20190228T032125Z
END:VEVENT
END:VCALENDAR
