BEGIN:VCALENDAR
VERSION:2.0
METHOD:PUBLISH
BEGIN:VEVENT
UID:WILD_APRICOT_EVENT_2290092_SESSION_1
DTSTART:20160827T030000Z
DTEND:20160827T050000Z
SUMMARY:Siang Ngobrol Agustus
LOCATION:Beachcomber Cafe\, 10 Jacka Boulevard\, St Kilda
DESCRIPTION:https://www.aiav.org.au/event-2290092\n\nOur monthly opportunity to chat (mengobrol) with other members and guests in Indonesian while sharing some food and drink.\n  This month\, the meeting is held jointly with Jembatan Poetry Society. The guest speaker is Nuim Khaiyath.\n  To RSVP\, please contact Anton on 0430038176.\n
DTSTAMP:20190228T032217Z
END:VEVENT
END:VCALENDAR
