BEGIN:VCALENDAR
VERSION:2.0
METHOD:PUBLISH
BEGIN:VEVENT
UID:WILD_APRICOT_EVENT_2293761_SESSION_1
DTSTART:20161021T073000Z
DTEND:20161021T110000Z
SUMMARY:Annual General Meeting
LOCATION:East Melbourne Library\, 122 George Street\, East Melbourne
DESCRIPTION:https://www.aiav.org.au/event-2293761\n\nThe Annual General Meeting of AIAV will be held at the East Melbourne Library meeting room on Friday 21 October 2016\, starting at 6.30 pm.\n  In addition to the formal proceedings there will be an option to stay for dinner\, socialise with your fellow members and listen to our guest Helen Pausacker\, Deputy Director of the Centre for Indonesian Law\, Islam and Society (CILIS) at Melbourne University\, speaking on the topic "Legislating Morality: Before and After Indonesia’s Pornography Law".\n  There is no cost to attend the meeting itself. The cost for the dinner is $15 per person\, and guests are welcome. Vegetarian options will be available.\n  Registration is essential\, and online registration is preferred. \n
DTSTAMP:20190228T032137Z
END:VEVENT
END:VCALENDAR
