BEGIN:VCALENDAR
VERSION:2.0
METHOD:PUBLISH
BEGIN:VEVENT
UID:WILD_APRICOT_EVENT_2293772_SESSION_1
DTSTART:20160915T080000Z
DTEND:20160915T103000Z
SUMMARY:Malam Ngobrol September
LOCATION:Salero Kito Padang\, Tivoli Arcade\, 18/235-251 Bourke St\, Melbourne
DESCRIPTION:https://www.aiav.org.au/event-2293772\n\nOur monthly opportunity to chat (mengobrol) with other members and guests in Indonesian while sharing some food and drink.\n  This month we are trying a new location in the city where you can sample some inexpensive Padang cuisine while practising your bahasa. \n  Sampai nanti!\n
DTSTAMP:20190228T032203Z
END:VEVENT
END:VCALENDAR
