BEGIN:VCALENDAR
VERSION:2.0
METHOD:PUBLISH
BEGIN:VEVENT
UID:WILD_APRICOT_EVENT_2375509_SESSION_1
DTSTART:20161211T020000Z
DTEND:20161211T040000Z
SUMMARY:Siang Ngobrol Desember
LOCATION:The Pavillion\, Fitzroy Gardens\, 230-298 Wellington Parade\, Melbourne
DESCRIPTION:https://www.aiav.org.au/event-2375509\n\nOur monthly opportunity to chat (mengobrol) with other members and guests in Indonesian while sharing some food and drink.\n  This month\, the meeting will be in the beautiful surroundings of the Fitzroy Gardens and we will be joined by members of Jembatan Poetry Society and AIYA (Australian Indonesian Youth Association).\n  To RSVP\, please contact Anton on 0430 038 176.\n
DTSTAMP:20190228T032114Z
END:VEVENT
END:VCALENDAR
