BEGIN:VCALENDAR
VERSION:2.0
METHOD:PUBLISH
BEGIN:VEVENT
UID:WILD_APRICOT_EVENT_2390943_SESSION_1
DTSTART:20170207T073000Z
DTEND:20170207T093000Z
SUMMARY:Term 1 Language Classes 2017 (session 1 of 8)
LOCATION:Melbourne University\, Hawthorn Campus.  442 Auburn Road\, Hawthorn\, Victoria\, 3122 (Melway 59 E2)
DESCRIPTION:https://www.aiav.org.au/event-2390943\n\nTerm 1 of our language classes commence on 7 February 2017 and the final class is on 28 March. \n  There are 8 classes in total\, each lasting 2 hours. There are a number of class levels. If you are unsure which class you should be in\, or if you believe your need to move levels\, please contact our language team at language@aiav.org.au. \n  It is essential that participants in the beginners class attend from the first week of term.\n  You must be a member:\n  Language class enrolment is available for AIAV members only. If you are not yet a member\, click here to register as a member first. Then return to this page to enrol for classes. \n  Registering for part of a term:\n  This option is for AIAV members who cannot attend a full term of classes. It is essential that you first discuss this with our language team and make a payment agreement. After logging in\, click on this link to access a partial term payment page. This page is not accessible unless you are an AIAV member and are logged in. This option is not available for those starting the beginner level class. \n  AIAV reserves the right to reject and refund partial term payments made without prior agreement.\n
DTSTAMP:20190228T032102Z
END:VEVENT
BEGIN:VEVENT
UID:WILD_APRICOT_EVENT_2390943_SESSION_2
DTSTART:20170214T073000Z
DTEND:20170214T093000Z
SUMMARY:Term 1 Language Classes 2017 (session 2 of 8)
LOCATION:Melbourne University\, Hawthorn Campus.  442 Auburn Road\, Hawthorn\, Victoria\, 3122 (Melway 59 E2)
DESCRIPTION:https://www.aiav.org.au/event-2390943\n\nTerm 1 of our language classes commence on 7 February 2017 and the final class is on 28 March. \n  There are 8 classes in total\, each lasting 2 hours. There are a number of class levels. If you are unsure which class you should be in\, or if you believe your need to move levels\, please contact our language team at language@aiav.org.au. \n  It is essential that participants in the beginners class attend from the first week of term.\n  You must be a member:\n  Language class enrolment is available for AIAV members only. If you are not yet a member\, click here to register as a member first. Then return to this page to enrol for classes. \n  Registering for part of a term:\n  This option is for AIAV members who cannot attend a full term of classes. It is essential that you first discuss this with our language team and make a payment agreement. After logging in\, click on this link to access a partial term payment page. This page is not accessible unless you are an AIAV member and are logged in. This option is not available for those starting the beginner level class. \n  AIAV reserves the right to reject and refund partial term payments made without prior agreement.\n
DTSTAMP:20190228T032102Z
END:VEVENT
BEGIN:VEVENT
UID:WILD_APRICOT_EVENT_2390943_SESSION_3
DTSTART:20170221T073000Z
DTEND:20170221T093000Z
SUMMARY:Term 1 Language Classes 2017 (session 3 of 8)
LOCATION:Melbourne University\, Hawthorn Campus.  442 Auburn Road\, Hawthorn\, Victoria\, 3122 (Melway 59 E2)
DESCRIPTION:https://www.aiav.org.au/event-2390943\n\nTerm 1 of our language classes commence on 7 February 2017 and the final class is on 28 March. \n  There are 8 classes in total\, each lasting 2 hours. There are a number of class levels. If you are unsure which class you should be in\, or if you believe your need to move levels\, please contact our language team at language@aiav.org.au. \n  It is essential that participants in the beginners class attend from the first week of term.\n  You must be a member:\n  Language class enrolment is available for AIAV members only. If you are not yet a member\, click here to register as a member first. Then return to this page to enrol for classes. \n  Registering for part of a term:\n  This option is for AIAV members who cannot attend a full term of classes. It is essential that you first discuss this with our language team and make a payment agreement. After logging in\, click on this link to access a partial term payment page. This page is not accessible unless you are an AIAV member and are logged in. This option is not available for those starting the beginner level class. \n  AIAV reserves the right to reject and refund partial term payments made without prior agreement.\n
DTSTAMP:20190228T032102Z
END:VEVENT
BEGIN:VEVENT
UID:WILD_APRICOT_EVENT_2390943_SESSION_4
DTSTART:20170228T073000Z
DTEND:20170228T093000Z
SUMMARY:Term 1 Language Classes 2017 (session 4 of 8)
LOCATION:Melbourne University\, Hawthorn Campus.  442 Auburn Road\, Hawthorn\, Victoria\, 3122 (Melway 59 E2)
DESCRIPTION:https://www.aiav.org.au/event-2390943\n\nTerm 1 of our language classes commence on 7 February 2017 and the final class is on 28 March. \n  There are 8 classes in total\, each lasting 2 hours. There are a number of class levels. If you are unsure which class you should be in\, or if you believe your need to move levels\, please contact our language team at language@aiav.org.au. \n  It is essential that participants in the beginners class attend from the first week of term.\n  You must be a member:\n  Language class enrolment is available for AIAV members only. If you are not yet a member\, click here to register as a member first. Then return to this page to enrol for classes. \n  Registering for part of a term:\n  This option is for AIAV members who cannot attend a full term of classes. It is essential that you first discuss this with our language team and make a payment agreement. After logging in\, click on this link to access a partial term payment page. This page is not accessible unless you are an AIAV member and are logged in. This option is not available for those starting the beginner level class. \n  AIAV reserves the right to reject and refund partial term payments made without prior agreement.\n
DTSTAMP:20190228T032102Z
END:VEVENT
BEGIN:VEVENT
UID:WILD_APRICOT_EVENT_2390943_SESSION_5
DTSTART:20170307T073000Z
DTEND:20170307T093000Z
SUMMARY:Term 1 Language Classes 2017 (session 5 of 8)
LOCATION:Melbourne University\, Hawthorn Campus.  442 Auburn Road\, Hawthorn\, Victoria\, 3122 (Melway 59 E2)
DESCRIPTION:https://www.aiav.org.au/event-2390943\n\nTerm 1 of our language classes commence on 7 February 2017 and the final class is on 28 March. \n  There are 8 classes in total\, each lasting 2 hours. There are a number of class levels. If you are unsure which class you should be in\, or if you believe your need to move levels\, please contact our language team at language@aiav.org.au. \n  It is essential that participants in the beginners class attend from the first week of term.\n  You must be a member:\n  Language class enrolment is available for AIAV members only. If you are not yet a member\, click here to register as a member first. Then return to this page to enrol for classes. \n  Registering for part of a term:\n  This option is for AIAV members who cannot attend a full term of classes. It is essential that you first discuss this with our language team and make a payment agreement. After logging in\, click on this link to access a partial term payment page. This page is not accessible unless you are an AIAV member and are logged in. This option is not available for those starting the beginner level class. \n  AIAV reserves the right to reject and refund partial term payments made without prior agreement.\n
DTSTAMP:20190228T032102Z
END:VEVENT
BEGIN:VEVENT
UID:WILD_APRICOT_EVENT_2390943_SESSION_6
DTSTART:20170314T073000Z
DTEND:20170314T093000Z
SUMMARY:Term 1 Language Classes 2017 (session 6 of 8)
LOCATION:Melbourne University\, Hawthorn Campus.  442 Auburn Road\, Hawthorn\, Victoria\, 3122 (Melway 59 E2)
DESCRIPTION:https://www.aiav.org.au/event-2390943\n\nTerm 1 of our language classes commence on 7 February 2017 and the final class is on 28 March. \n  There are 8 classes in total\, each lasting 2 hours. There are a number of class levels. If you are unsure which class you should be in\, or if you believe your need to move levels\, please contact our language team at language@aiav.org.au. \n  It is essential that participants in the beginners class attend from the first week of term.\n  You must be a member:\n  Language class enrolment is available for AIAV members only. If you are not yet a member\, click here to register as a member first. Then return to this page to enrol for classes. \n  Registering for part of a term:\n  This option is for AIAV members who cannot attend a full term of classes. It is essential that you first discuss this with our language team and make a payment agreement. After logging in\, click on this link to access a partial term payment page. This page is not accessible unless you are an AIAV member and are logged in. This option is not available for those starting the beginner level class. \n  AIAV reserves the right to reject and refund partial term payments made without prior agreement.\n
DTSTAMP:20190228T032102Z
END:VEVENT
BEGIN:VEVENT
UID:WILD_APRICOT_EVENT_2390943_SESSION_7
DTSTART:20170321T073000Z
DTEND:20170321T093000Z
SUMMARY:Term 1 Language Classes 2017 (session 7 of 8)
LOCATION:Melbourne University\, Hawthorn Campus.  442 Auburn Road\, Hawthorn\, Victoria\, 3122 (Melway 59 E2)
DESCRIPTION:https://www.aiav.org.au/event-2390943\n\nTerm 1 of our language classes commence on 7 February 2017 and the final class is on 28 March. \n  There are 8 classes in total\, each lasting 2 hours. There are a number of class levels. If you are unsure which class you should be in\, or if you believe your need to move levels\, please contact our language team at language@aiav.org.au. \n  It is essential that participants in the beginners class attend from the first week of term.\n  You must be a member:\n  Language class enrolment is available for AIAV members only. If you are not yet a member\, click here to register as a member first. Then return to this page to enrol for classes. \n  Registering for part of a term:\n  This option is for AIAV members who cannot attend a full term of classes. It is essential that you first discuss this with our language team and make a payment agreement. After logging in\, click on this link to access a partial term payment page. This page is not accessible unless you are an AIAV member and are logged in. This option is not available for those starting the beginner level class. \n  AIAV reserves the right to reject and refund partial term payments made without prior agreement.\n
DTSTAMP:20190228T032102Z
END:VEVENT
BEGIN:VEVENT
UID:WILD_APRICOT_EVENT_2390943_SESSION_8
DTSTART:20170328T073000Z
DTEND:20170328T093000Z
SUMMARY:Term 1 Language Classes 2017 (session 8 of 8)
LOCATION:Melbourne University\, Hawthorn Campus.  442 Auburn Road\, Hawthorn\, Victoria\, 3122 (Melway 59 E2)
DESCRIPTION:https://www.aiav.org.au/event-2390943\n\nTerm 1 of our language classes commence on 7 February 2017 and the final class is on 28 March. \n  There are 8 classes in total\, each lasting 2 hours. There are a number of class levels. If you are unsure which class you should be in\, or if you believe your need to move levels\, please contact our language team at language@aiav.org.au. \n  It is essential that participants in the beginners class attend from the first week of term.\n  You must be a member:\n  Language class enrolment is available for AIAV members only. If you are not yet a member\, click here to register as a member first. Then return to this page to enrol for classes. \n  Registering for part of a term:\n  This option is for AIAV members who cannot attend a full term of classes. It is essential that you first discuss this with our language team and make a payment agreement. After logging in\, click on this link to access a partial term payment page. This page is not accessible unless you are an AIAV member and are logged in. This option is not available for those starting the beginner level class. \n  AIAV reserves the right to reject and refund partial term payments made without prior agreement.\n
DTSTAMP:20190228T032102Z
END:VEVENT
END:VCALENDAR
