BEGIN:VCALENDAR
VERSION:2.0
METHOD:PUBLISH
BEGIN:VEVENT
UID:WILD_APRICOT_EVENT_2390947_SESSION_1
DTSTART:20170718T083000Z
DTEND:20170718T103000Z
SUMMARY:Term 3 Language Classes 2017 (session 1 of 10)
LOCATION:Melbourne University\, Hawthorn Campus.  442 Auburn Road\, Hawthorn\, Victoria\, 3122 (Melway 59 E2)
DESCRIPTION:https://www.aiav.org.au/event-2390947\n\nTerm 3 of our language classes commence on 18 July 2017 and the final class is on 19 September. \n  There are 10 classes in total\, each lasting 2 hours. There are a number of class levels. If you are unsure which class you should be in\, or if you believe your need to move levels\, please contact our language team at language@aiav.org.au. \n  It is essential that participants in the beginners class attend from the first week of term.\n  You must be a member:\n  Language class enrolment is available for AIAV members only. If you are not yet a member\, click here to register as a member first. Then return to this page to enrol for classes. \n  Variable registration (part of a term):\n  This option is for AIAV members who cannot attend a full term of classes. It is essential that you first discuss this with our language team (email language@aiav.org.au) and make a payment agreement. \n  This option is not available for those starting the Beginner level class. \n\n  After logging in\, click on this link to access the partial term payment page and pay for the number of classes you will be attending. This page is not accessible unless you are an AIAV member and are logged in. \n  AIAV reserves the right to reject and refund partial term payments made without prior agreement.\n\n
DTSTAMP:20190228T031954Z
END:VEVENT
BEGIN:VEVENT
UID:WILD_APRICOT_EVENT_2390947_SESSION_2
DTSTART:20170725T083000Z
DTEND:20170725T103000Z
SUMMARY:Term 3 Language Classes 2017 (session 2 of 10)
LOCATION:Melbourne University\, Hawthorn Campus.  442 Auburn Road\, Hawthorn\, Victoria\, 3122 (Melway 59 E2)
DESCRIPTION:https://www.aiav.org.au/event-2390947\n\nTerm 3 of our language classes commence on 18 July 2017 and the final class is on 19 September. \n  There are 10 classes in total\, each lasting 2 hours. There are a number of class levels. If you are unsure which class you should be in\, or if you believe your need to move levels\, please contact our language team at language@aiav.org.au. \n  It is essential that participants in the beginners class attend from the first week of term.\n  You must be a member:\n  Language class enrolment is available for AIAV members only. If you are not yet a member\, click here to register as a member first. Then return to this page to enrol for classes. \n  Variable registration (part of a term):\n  This option is for AIAV members who cannot attend a full term of classes. It is essential that you first discuss this with our language team (email language@aiav.org.au) and make a payment agreement. \n  This option is not available for those starting the Beginner level class. \n\n  After logging in\, click on this link to access the partial term payment page and pay for the number of classes you will be attending. This page is not accessible unless you are an AIAV member and are logged in. \n  AIAV reserves the right to reject and refund partial term payments made without prior agreement.\n\n
DTSTAMP:20190228T031954Z
END:VEVENT
BEGIN:VEVENT
UID:WILD_APRICOT_EVENT_2390947_SESSION_3
DTSTART:20170801T083000Z
DTEND:20170801T103000Z
SUMMARY:Term 3 Language Classes 2017 (session 3 of 10)
LOCATION:Melbourne University\, Hawthorn Campus.  442 Auburn Road\, Hawthorn\, Victoria\, 3122 (Melway 59 E2)
DESCRIPTION:https://www.aiav.org.au/event-2390947\n\nTerm 3 of our language classes commence on 18 July 2017 and the final class is on 19 September. \n  There are 10 classes in total\, each lasting 2 hours. There are a number of class levels. If you are unsure which class you should be in\, or if you believe your need to move levels\, please contact our language team at language@aiav.org.au. \n  It is essential that participants in the beginners class attend from the first week of term.\n  You must be a member:\n  Language class enrolment is available for AIAV members only. If you are not yet a member\, click here to register as a member first. Then return to this page to enrol for classes. \n  Variable registration (part of a term):\n  This option is for AIAV members who cannot attend a full term of classes. It is essential that you first discuss this with our language team (email language@aiav.org.au) and make a payment agreement. \n  This option is not available for those starting the Beginner level class. \n\n  After logging in\, click on this link to access the partial term payment page and pay for the number of classes you will be attending. This page is not accessible unless you are an AIAV member and are logged in. \n  AIAV reserves the right to reject and refund partial term payments made without prior agreement.\n\n
DTSTAMP:20190228T031954Z
END:VEVENT
BEGIN:VEVENT
UID:WILD_APRICOT_EVENT_2390947_SESSION_4
DTSTART:20170808T083000Z
DTEND:20170808T103000Z
SUMMARY:Term 3 Language Classes 2017 (session 4 of 10)
LOCATION:Melbourne University\, Hawthorn Campus.  442 Auburn Road\, Hawthorn\, Victoria\, 3122 (Melway 59 E2)
DESCRIPTION:https://www.aiav.org.au/event-2390947\n\nTerm 3 of our language classes commence on 18 July 2017 and the final class is on 19 September. \n  There are 10 classes in total\, each lasting 2 hours. There are a number of class levels. If you are unsure which class you should be in\, or if you believe your need to move levels\, please contact our language team at language@aiav.org.au. \n  It is essential that participants in the beginners class attend from the first week of term.\n  You must be a member:\n  Language class enrolment is available for AIAV members only. If you are not yet a member\, click here to register as a member first. Then return to this page to enrol for classes. \n  Variable registration (part of a term):\n  This option is for AIAV members who cannot attend a full term of classes. It is essential that you first discuss this with our language team (email language@aiav.org.au) and make a payment agreement. \n  This option is not available for those starting the Beginner level class. \n\n  After logging in\, click on this link to access the partial term payment page and pay for the number of classes you will be attending. This page is not accessible unless you are an AIAV member and are logged in. \n  AIAV reserves the right to reject and refund partial term payments made without prior agreement.\n\n
DTSTAMP:20190228T031954Z
END:VEVENT
BEGIN:VEVENT
UID:WILD_APRICOT_EVENT_2390947_SESSION_5
DTSTART:20170815T083000Z
DTEND:20170815T103000Z
SUMMARY:Term 3 Language Classes 2017 (session 5 of 10)
LOCATION:Melbourne University\, Hawthorn Campus.  442 Auburn Road\, Hawthorn\, Victoria\, 3122 (Melway 59 E2)
DESCRIPTION:https://www.aiav.org.au/event-2390947\n\nTerm 3 of our language classes commence on 18 July 2017 and the final class is on 19 September. \n  There are 10 classes in total\, each lasting 2 hours. There are a number of class levels. If you are unsure which class you should be in\, or if you believe your need to move levels\, please contact our language team at language@aiav.org.au. \n  It is essential that participants in the beginners class attend from the first week of term.\n  You must be a member:\n  Language class enrolment is available for AIAV members only. If you are not yet a member\, click here to register as a member first. Then return to this page to enrol for classes. \n  Variable registration (part of a term):\n  This option is for AIAV members who cannot attend a full term of classes. It is essential that you first discuss this with our language team (email language@aiav.org.au) and make a payment agreement. \n  This option is not available for those starting the Beginner level class. \n\n  After logging in\, click on this link to access the partial term payment page and pay for the number of classes you will be attending. This page is not accessible unless you are an AIAV member and are logged in. \n  AIAV reserves the right to reject and refund partial term payments made without prior agreement.\n\n
DTSTAMP:20190228T031954Z
END:VEVENT
BEGIN:VEVENT
UID:WILD_APRICOT_EVENT_2390947_SESSION_6
DTSTART:20170822T083000Z
DTEND:20170822T103000Z
SUMMARY:Term 3 Language Classes 2017 (session 6 of 10)
LOCATION:Melbourne University\, Hawthorn Campus.  442 Auburn Road\, Hawthorn\, Victoria\, 3122 (Melway 59 E2)
DESCRIPTION:https://www.aiav.org.au/event-2390947\n\nTerm 3 of our language classes commence on 18 July 2017 and the final class is on 19 September. \n  There are 10 classes in total\, each lasting 2 hours. There are a number of class levels. If you are unsure which class you should be in\, or if you believe your need to move levels\, please contact our language team at language@aiav.org.au. \n  It is essential that participants in the beginners class attend from the first week of term.\n  You must be a member:\n  Language class enrolment is available for AIAV members only. If you are not yet a member\, click here to register as a member first. Then return to this page to enrol for classes. \n  Variable registration (part of a term):\n  This option is for AIAV members who cannot attend a full term of classes. It is essential that you first discuss this with our language team (email language@aiav.org.au) and make a payment agreement. \n  This option is not available for those starting the Beginner level class. \n\n  After logging in\, click on this link to access the partial term payment page and pay for the number of classes you will be attending. This page is not accessible unless you are an AIAV member and are logged in. \n  AIAV reserves the right to reject and refund partial term payments made without prior agreement.\n\n
DTSTAMP:20190228T031954Z
END:VEVENT
BEGIN:VEVENT
UID:WILD_APRICOT_EVENT_2390947_SESSION_7
DTSTART:20170829T083000Z
DTEND:20170829T103000Z
SUMMARY:Term 3 Language Classes 2017 (session 7 of 10)
LOCATION:Melbourne University\, Hawthorn Campus.  442 Auburn Road\, Hawthorn\, Victoria\, 3122 (Melway 59 E2)
DESCRIPTION:https://www.aiav.org.au/event-2390947\n\nTerm 3 of our language classes commence on 18 July 2017 and the final class is on 19 September. \n  There are 10 classes in total\, each lasting 2 hours. There are a number of class levels. If you are unsure which class you should be in\, or if you believe your need to move levels\, please contact our language team at language@aiav.org.au. \n  It is essential that participants in the beginners class attend from the first week of term.\n  You must be a member:\n  Language class enrolment is available for AIAV members only. If you are not yet a member\, click here to register as a member first. Then return to this page to enrol for classes. \n  Variable registration (part of a term):\n  This option is for AIAV members who cannot attend a full term of classes. It is essential that you first discuss this with our language team (email language@aiav.org.au) and make a payment agreement. \n  This option is not available for those starting the Beginner level class. \n\n  After logging in\, click on this link to access the partial term payment page and pay for the number of classes you will be attending. This page is not accessible unless you are an AIAV member and are logged in. \n  AIAV reserves the right to reject and refund partial term payments made without prior agreement.\n\n
DTSTAMP:20190228T031954Z
END:VEVENT
BEGIN:VEVENT
UID:WILD_APRICOT_EVENT_2390947_SESSION_8
DTSTART:20170905T083000Z
DTEND:20170905T103000Z
SUMMARY:Term 3 Language Classes 2017 (session 8 of 10)
LOCATION:Melbourne University\, Hawthorn Campus.  442 Auburn Road\, Hawthorn\, Victoria\, 3122 (Melway 59 E2)
DESCRIPTION:https://www.aiav.org.au/event-2390947\n\nTerm 3 of our language classes commence on 18 July 2017 and the final class is on 19 September. \n  There are 10 classes in total\, each lasting 2 hours. There are a number of class levels. If you are unsure which class you should be in\, or if you believe your need to move levels\, please contact our language team at language@aiav.org.au. \n  It is essential that participants in the beginners class attend from the first week of term.\n  You must be a member:\n  Language class enrolment is available for AIAV members only. If you are not yet a member\, click here to register as a member first. Then return to this page to enrol for classes. \n  Variable registration (part of a term):\n  This option is for AIAV members who cannot attend a full term of classes. It is essential that you first discuss this with our language team (email language@aiav.org.au) and make a payment agreement. \n  This option is not available for those starting the Beginner level class. \n\n  After logging in\, click on this link to access the partial term payment page and pay for the number of classes you will be attending. This page is not accessible unless you are an AIAV member and are logged in. \n  AIAV reserves the right to reject and refund partial term payments made without prior agreement.\n\n
DTSTAMP:20190228T031954Z
END:VEVENT
BEGIN:VEVENT
UID:WILD_APRICOT_EVENT_2390947_SESSION_9
DTSTART:20170912T083000Z
DTEND:20170912T103000Z
SUMMARY:Term 3 Language Classes 2017 (session 9 of 10)
LOCATION:Melbourne University\, Hawthorn Campus.  442 Auburn Road\, Hawthorn\, Victoria\, 3122 (Melway 59 E2)
DESCRIPTION:https://www.aiav.org.au/event-2390947\n\nTerm 3 of our language classes commence on 18 July 2017 and the final class is on 19 September. \n  There are 10 classes in total\, each lasting 2 hours. There are a number of class levels. If you are unsure which class you should be in\, or if you believe your need to move levels\, please contact our language team at language@aiav.org.au. \n  It is essential that participants in the beginners class attend from the first week of term.\n  You must be a member:\n  Language class enrolment is available for AIAV members only. If you are not yet a member\, click here to register as a member first. Then return to this page to enrol for classes. \n  Variable registration (part of a term):\n  This option is for AIAV members who cannot attend a full term of classes. It is essential that you first discuss this with our language team (email language@aiav.org.au) and make a payment agreement. \n  This option is not available for those starting the Beginner level class. \n\n  After logging in\, click on this link to access the partial term payment page and pay for the number of classes you will be attending. This page is not accessible unless you are an AIAV member and are logged in. \n  AIAV reserves the right to reject and refund partial term payments made without prior agreement.\n\n
DTSTAMP:20190228T031954Z
END:VEVENT
BEGIN:VEVENT
UID:WILD_APRICOT_EVENT_2390947_SESSION_10
DTSTART:20170919T083000Z
DTEND:20170919T103000Z
SUMMARY:Term 3 Language Classes 2017 (session 10 of 10)
LOCATION:Melbourne University\, Hawthorn Campus.  442 Auburn Road\, Hawthorn\, Victoria\, 3122 (Melway 59 E2)
DESCRIPTION:https://www.aiav.org.au/event-2390947\n\nTerm 3 of our language classes commence on 18 July 2017 and the final class is on 19 September. \n  There are 10 classes in total\, each lasting 2 hours. There are a number of class levels. If you are unsure which class you should be in\, or if you believe your need to move levels\, please contact our language team at language@aiav.org.au. \n  It is essential that participants in the beginners class attend from the first week of term.\n  You must be a member:\n  Language class enrolment is available for AIAV members only. If you are not yet a member\, click here to register as a member first. Then return to this page to enrol for classes. \n  Variable registration (part of a term):\n  This option is for AIAV members who cannot attend a full term of classes. It is essential that you first discuss this with our language team (email language@aiav.org.au) and make a payment agreement. \n  This option is not available for those starting the Beginner level class. \n\n  After logging in\, click on this link to access the partial term payment page and pay for the number of classes you will be attending. This page is not accessible unless you are an AIAV member and are logged in. \n  AIAV reserves the right to reject and refund partial term payments made without prior agreement.\n\n
DTSTAMP:20190228T031954Z
END:VEVENT
END:VCALENDAR
