BEGIN:VCALENDAR
VERSION:2.0
METHOD:PUBLISH
BEGIN:VEVENT
UID:WILD_APRICOT_EVENT_2390948_SESSION_1
DTSTART:20171010T073000Z
DTEND:20171010T093000Z
SUMMARY:Term 4 Language Classes 2017 (session 1 of 9)
LOCATION:Melbourne University\, Hawthorn Campus.  442 Auburn Road\, Hawthorn\, Victoria\, 3122 (Melway 59 E2)
DESCRIPTION:https://www.aiav.org.au/event-2390948\n\nTerm 4 of our language classes commences on 10 October 2017 and the final class is on 12 December. \n  There are 9 classes in total\, each lasting 2 hours. There are a number of class levels. If you are unsure which class you should be in\, or if you believe your need to move levels\, please contact our language team at language@aiav.org.au.\n\n  There will be no class on Tuesday 7 November\, as this is Melbourne Cup Day.\n  It is essential that participants in the beginners class attend from the first week of term.\n  You must be a member:\n  Language class enrolment is available for AIAV members only. If you are not yet a member\, click here to register as a member first. Then return to this page to enrol for classes. \n  Variable registration (part of a term):\n  This option is for AIAV members who cannot attend a full term of classes. It is essential that you first discuss this with our language team (email language@aiav.org.au) and make a payment agreement. \n  This option is not available for those starting the Beginner level class. \n\n  After logging in\, click on this link to access the partial term payment page and pay for the number of classes you will be attending. This page is not accessible unless you are an AIAV member and are logged in. \n  AIAV reserves the right to reject and refund partial term payments made without prior agreement.\n\n
DTSTAMP:20190228T031914Z
END:VEVENT
BEGIN:VEVENT
UID:WILD_APRICOT_EVENT_2390948_SESSION_2
DTSTART:20171017T073000Z
DTEND:20171017T093000Z
SUMMARY:Term 4 Language Classes 2017 (session 2 of 9)
LOCATION:Melbourne University\, Hawthorn Campus.  442 Auburn Road\, Hawthorn\, Victoria\, 3122 (Melway 59 E2)
DESCRIPTION:https://www.aiav.org.au/event-2390948\n\nTerm 4 of our language classes commences on 10 October 2017 and the final class is on 12 December. \n  There are 9 classes in total\, each lasting 2 hours. There are a number of class levels. If you are unsure which class you should be in\, or if you believe your need to move levels\, please contact our language team at language@aiav.org.au.\n\n  There will be no class on Tuesday 7 November\, as this is Melbourne Cup Day.\n  It is essential that participants in the beginners class attend from the first week of term.\n  You must be a member:\n  Language class enrolment is available for AIAV members only. If you are not yet a member\, click here to register as a member first. Then return to this page to enrol for classes. \n  Variable registration (part of a term):\n  This option is for AIAV members who cannot attend a full term of classes. It is essential that you first discuss this with our language team (email language@aiav.org.au) and make a payment agreement. \n  This option is not available for those starting the Beginner level class. \n\n  After logging in\, click on this link to access the partial term payment page and pay for the number of classes you will be attending. This page is not accessible unless you are an AIAV member and are logged in. \n  AIAV reserves the right to reject and refund partial term payments made without prior agreement.\n\n
DTSTAMP:20190228T031914Z
END:VEVENT
BEGIN:VEVENT
UID:WILD_APRICOT_EVENT_2390948_SESSION_3
DTSTART:20171024T073000Z
DTEND:20171024T093000Z
SUMMARY:Term 4 Language Classes 2017 (session 3 of 9)
LOCATION:Melbourne University\, Hawthorn Campus.  442 Auburn Road\, Hawthorn\, Victoria\, 3122 (Melway 59 E2)
DESCRIPTION:https://www.aiav.org.au/event-2390948\n\nTerm 4 of our language classes commences on 10 October 2017 and the final class is on 12 December. \n  There are 9 classes in total\, each lasting 2 hours. There are a number of class levels. If you are unsure which class you should be in\, or if you believe your need to move levels\, please contact our language team at language@aiav.org.au.\n\n  There will be no class on Tuesday 7 November\, as this is Melbourne Cup Day.\n  It is essential that participants in the beginners class attend from the first week of term.\n  You must be a member:\n  Language class enrolment is available for AIAV members only. If you are not yet a member\, click here to register as a member first. Then return to this page to enrol for classes. \n  Variable registration (part of a term):\n  This option is for AIAV members who cannot attend a full term of classes. It is essential that you first discuss this with our language team (email language@aiav.org.au) and make a payment agreement. \n  This option is not available for those starting the Beginner level class. \n\n  After logging in\, click on this link to access the partial term payment page and pay for the number of classes you will be attending. This page is not accessible unless you are an AIAV member and are logged in. \n  AIAV reserves the right to reject and refund partial term payments made without prior agreement.\n\n
DTSTAMP:20190228T031914Z
END:VEVENT
BEGIN:VEVENT
UID:WILD_APRICOT_EVENT_2390948_SESSION_4
DTSTART:20171031T073000Z
DTEND:20171031T093000Z
SUMMARY:Term 4 Language Classes 2017 (session 4 of 9)
LOCATION:Melbourne University\, Hawthorn Campus.  442 Auburn Road\, Hawthorn\, Victoria\, 3122 (Melway 59 E2)
DESCRIPTION:https://www.aiav.org.au/event-2390948\n\nTerm 4 of our language classes commences on 10 October 2017 and the final class is on 12 December. \n  There are 9 classes in total\, each lasting 2 hours. There are a number of class levels. If you are unsure which class you should be in\, or if you believe your need to move levels\, please contact our language team at language@aiav.org.au.\n\n  There will be no class on Tuesday 7 November\, as this is Melbourne Cup Day.\n  It is essential that participants in the beginners class attend from the first week of term.\n  You must be a member:\n  Language class enrolment is available for AIAV members only. If you are not yet a member\, click here to register as a member first. Then return to this page to enrol for classes. \n  Variable registration (part of a term):\n  This option is for AIAV members who cannot attend a full term of classes. It is essential that you first discuss this with our language team (email language@aiav.org.au) and make a payment agreement. \n  This option is not available for those starting the Beginner level class. \n\n  After logging in\, click on this link to access the partial term payment page and pay for the number of classes you will be attending. This page is not accessible unless you are an AIAV member and are logged in. \n  AIAV reserves the right to reject and refund partial term payments made without prior agreement.\n\n
DTSTAMP:20190228T031914Z
END:VEVENT
BEGIN:VEVENT
UID:WILD_APRICOT_EVENT_2390948_SESSION_5
DTSTART:20171114T073000Z
DTEND:20171114T093000Z
SUMMARY:Term 4 Language Classes 2017 (session 5 of 9)
LOCATION:Melbourne University\, Hawthorn Campus.  442 Auburn Road\, Hawthorn\, Victoria\, 3122 (Melway 59 E2)
DESCRIPTION:https://www.aiav.org.au/event-2390948\n\nTerm 4 of our language classes commences on 10 October 2017 and the final class is on 12 December. \n  There are 9 classes in total\, each lasting 2 hours. There are a number of class levels. If you are unsure which class you should be in\, or if you believe your need to move levels\, please contact our language team at language@aiav.org.au.\n\n  There will be no class on Tuesday 7 November\, as this is Melbourne Cup Day.\n  It is essential that participants in the beginners class attend from the first week of term.\n  You must be a member:\n  Language class enrolment is available for AIAV members only. If you are not yet a member\, click here to register as a member first. Then return to this page to enrol for classes. \n  Variable registration (part of a term):\n  This option is for AIAV members who cannot attend a full term of classes. It is essential that you first discuss this with our language team (email language@aiav.org.au) and make a payment agreement. \n  This option is not available for those starting the Beginner level class. \n\n  After logging in\, click on this link to access the partial term payment page and pay for the number of classes you will be attending. This page is not accessible unless you are an AIAV member and are logged in. \n  AIAV reserves the right to reject and refund partial term payments made without prior agreement.\n\n
DTSTAMP:20190228T031914Z
END:VEVENT
BEGIN:VEVENT
UID:WILD_APRICOT_EVENT_2390948_SESSION_6
DTSTART:20171121T073000Z
DTEND:20171121T093000Z
SUMMARY:Term 4 Language Classes 2017 (session 6 of 9)
LOCATION:Melbourne University\, Hawthorn Campus.  442 Auburn Road\, Hawthorn\, Victoria\, 3122 (Melway 59 E2)
DESCRIPTION:https://www.aiav.org.au/event-2390948\n\nTerm 4 of our language classes commences on 10 October 2017 and the final class is on 12 December. \n  There are 9 classes in total\, each lasting 2 hours. There are a number of class levels. If you are unsure which class you should be in\, or if you believe your need to move levels\, please contact our language team at language@aiav.org.au.\n\n  There will be no class on Tuesday 7 November\, as this is Melbourne Cup Day.\n  It is essential that participants in the beginners class attend from the first week of term.\n  You must be a member:\n  Language class enrolment is available for AIAV members only. If you are not yet a member\, click here to register as a member first. Then return to this page to enrol for classes. \n  Variable registration (part of a term):\n  This option is for AIAV members who cannot attend a full term of classes. It is essential that you first discuss this with our language team (email language@aiav.org.au) and make a payment agreement. \n  This option is not available for those starting the Beginner level class. \n\n  After logging in\, click on this link to access the partial term payment page and pay for the number of classes you will be attending. This page is not accessible unless you are an AIAV member and are logged in. \n  AIAV reserves the right to reject and refund partial term payments made without prior agreement.\n\n
DTSTAMP:20190228T031914Z
END:VEVENT
BEGIN:VEVENT
UID:WILD_APRICOT_EVENT_2390948_SESSION_7
DTSTART:20171128T073000Z
DTEND:20171128T093000Z
SUMMARY:Term 4 Language Classes 2017 (session 7 of 9)
LOCATION:Melbourne University\, Hawthorn Campus.  442 Auburn Road\, Hawthorn\, Victoria\, 3122 (Melway 59 E2)
DESCRIPTION:https://www.aiav.org.au/event-2390948\n\nTerm 4 of our language classes commences on 10 October 2017 and the final class is on 12 December. \n  There are 9 classes in total\, each lasting 2 hours. There are a number of class levels. If you are unsure which class you should be in\, or if you believe your need to move levels\, please contact our language team at language@aiav.org.au.\n\n  There will be no class on Tuesday 7 November\, as this is Melbourne Cup Day.\n  It is essential that participants in the beginners class attend from the first week of term.\n  You must be a member:\n  Language class enrolment is available for AIAV members only. If you are not yet a member\, click here to register as a member first. Then return to this page to enrol for classes. \n  Variable registration (part of a term):\n  This option is for AIAV members who cannot attend a full term of classes. It is essential that you first discuss this with our language team (email language@aiav.org.au) and make a payment agreement. \n  This option is not available for those starting the Beginner level class. \n\n  After logging in\, click on this link to access the partial term payment page and pay for the number of classes you will be attending. This page is not accessible unless you are an AIAV member and are logged in. \n  AIAV reserves the right to reject and refund partial term payments made without prior agreement.\n\n
DTSTAMP:20190228T031914Z
END:VEVENT
BEGIN:VEVENT
UID:WILD_APRICOT_EVENT_2390948_SESSION_8
DTSTART:20171205T073000Z
DTEND:20171205T093000Z
SUMMARY:Term 4 Language Classes 2017 (session 8 of 9)
LOCATION:Melbourne University\, Hawthorn Campus.  442 Auburn Road\, Hawthorn\, Victoria\, 3122 (Melway 59 E2)
DESCRIPTION:https://www.aiav.org.au/event-2390948\n\nTerm 4 of our language classes commences on 10 October 2017 and the final class is on 12 December. \n  There are 9 classes in total\, each lasting 2 hours. There are a number of class levels. If you are unsure which class you should be in\, or if you believe your need to move levels\, please contact our language team at language@aiav.org.au.\n\n  There will be no class on Tuesday 7 November\, as this is Melbourne Cup Day.\n  It is essential that participants in the beginners class attend from the first week of term.\n  You must be a member:\n  Language class enrolment is available for AIAV members only. If you are not yet a member\, click here to register as a member first. Then return to this page to enrol for classes. \n  Variable registration (part of a term):\n  This option is for AIAV members who cannot attend a full term of classes. It is essential that you first discuss this with our language team (email language@aiav.org.au) and make a payment agreement. \n  This option is not available for those starting the Beginner level class. \n\n  After logging in\, click on this link to access the partial term payment page and pay for the number of classes you will be attending. This page is not accessible unless you are an AIAV member and are logged in. \n  AIAV reserves the right to reject and refund partial term payments made without prior agreement.\n\n
DTSTAMP:20190228T031914Z
END:VEVENT
BEGIN:VEVENT
UID:WILD_APRICOT_EVENT_2390948_SESSION_9
DTSTART:20171212T073000Z
DTEND:20171212T093000Z
SUMMARY:Term 4 Language Classes 2017 (session 9 of 9)
LOCATION:Melbourne University\, Hawthorn Campus.  442 Auburn Road\, Hawthorn\, Victoria\, 3122 (Melway 59 E2)
DESCRIPTION:https://www.aiav.org.au/event-2390948\n\nTerm 4 of our language classes commences on 10 October 2017 and the final class is on 12 December. \n  There are 9 classes in total\, each lasting 2 hours. There are a number of class levels. If you are unsure which class you should be in\, or if you believe your need to move levels\, please contact our language team at language@aiav.org.au.\n\n  There will be no class on Tuesday 7 November\, as this is Melbourne Cup Day.\n  It is essential that participants in the beginners class attend from the first week of term.\n  You must be a member:\n  Language class enrolment is available for AIAV members only. If you are not yet a member\, click here to register as a member first. Then return to this page to enrol for classes. \n  Variable registration (part of a term):\n  This option is for AIAV members who cannot attend a full term of classes. It is essential that you first discuss this with our language team (email language@aiav.org.au) and make a payment agreement. \n  This option is not available for those starting the Beginner level class. \n\n  After logging in\, click on this link to access the partial term payment page and pay for the number of classes you will be attending. This page is not accessible unless you are an AIAV member and are logged in. \n  AIAV reserves the right to reject and refund partial term payments made without prior agreement.\n\n
DTSTAMP:20190228T031914Z
END:VEVENT
END:VCALENDAR
