BEGIN:VCALENDAR
VERSION:2.0
METHOD:PUBLISH
BEGIN:VEVENT
UID:WILD_APRICOT_EVENT_2514456_SESSION_1
DTSTART:20170408T040000Z
DTEND:20170408T060000Z
SUMMARY:Siang Ngobrol April
LOCATION:62 Market Rd\, Werribee
DESCRIPTION:https://www.aiav.org.au/event-2514456\n\nThis is our regular monthly conversation afternoon\, and an opportunity to practice your Bahasa Indonesia in a social situation. Suitable for total beginners\, through seasoned experts. Usually we have a few native speakers attend also. \n  Ayo\, mari berbincang-bincang!\n  This month we're meeting at the home of Robert Wesutan.\n 62 Market Rd\, Werribee\n Time: 2 pm\n  Tea and coffee provided. Please bring something small to share.\n\n  \n\n
DTSTAMP:20190228T032036Z
END:VEVENT
END:VCALENDAR
