BEGIN:VCALENDAR
VERSION:2.0
METHOD:PUBLISH
BEGIN:VEVENT
UID:WILD_APRICOT_EVENT_2665417_SESSION_1
DTSTART:20171020T080000Z
DTEND:20171020T100000Z
SUMMARY:Annual General Meeting 2017
LOCATION:Multipurpose Room 1\, Kathleen Syme Library and Community Centre\, 251 Faraday Street Carlton
DESCRIPTION:https://www.aiav.org.au/event-2665417\n\nThe Annual General Meeting of AIAV will be held at the Kathleen Syme Library and Community Centre (Multipurpose Room 1)\, 251 Faraday Street Carlton on Friday 20 October 2017\, starting at 7.00 pm.\n  All members are encouraged to attend the meeting\, which will include the election of some committee positions. Your membership must be current in order for you to be able to vote.\n  The positions to be open for election are:\n      * treasurer\n\n\n        * 7 non-office-bearing committee positions\n\n\n  There is no cost to attend the meeting but please register so we have a sense of the numbers attending. Unlike previous years\, there will be no dinner and guest speaker – we're saving that for our November dinner – but finger food will be provided.\n
DTSTAMP:20190228T031902Z
END:VEVENT
END:VCALENDAR
