BEGIN:VCALENDAR
VERSION:2.0
METHOD:PUBLISH
BEGIN:VEVENT
UID:WILD_APRICOT_EVENT_2686676_SESSION_1
DTSTART:20171111T070000Z
DTEND:20171111T110000Z
SUMMARY:AIAV Annual Dinner
LOCATION:Amora Hotel\, Bridge Yarra Room\, 649 Bridge Road\, Richmond
DESCRIPTION:https://www.aiav.org.au/event-2686676\n\nThere's still time to book your seat at AIAV's annual dinner!\n  Don't miss out on what promises to be an evening of great food (Indonesian buffet-style meal including vegetarian options)\, fun\, reflection and entertainment including live music from the Tapanuli Bonapasogit group.\n  Our guest speaker will be Dr Mark Ellis AM who will share his experiences in improving eye health in eastern Indonesia as Program Director of the Sumba Eye Program.\n  We'll also be paying tribute to our special guest Pak Ki Poediono\, musical director of AIAV's gamelan group Permai for more than 20 years.\n  If that's not enough to tempt you\, there's a travel-related door prize as well. \n  Ticket prices are $30 per head for members\, $40 for non-member guests.\n\n  For more information\, please email David Copeland at david.copeland@team.telstra.com.\n\n  Booking is essential\, and seats are limited\, so get in quick! \n\n  Online booking is preferred using the link below. If you are unable to book online\, please contact:\nTesna 0406 947 136\n David 0400 986 774\n
DTSTAMP:20190228T031842Z
END:VEVENT
END:VCALENDAR
