BEGIN:VCALENDAR
VERSION:2.0
METHOD:PUBLISH
BEGIN:VEVENT
UID:WILD_APRICOT_EVENT_2739898_SESSION_1
DTSTART:20171202T020000Z
DTEND:20171202T050000Z
SUMMARY:Siang Puisi (Poetry Afternoon)
LOCATION:Consulate General of Indonesia\,  72 Queens Lane\, Melbourne VIC 3004
DESCRIPTION:https://www.aiav.org.au/event-2739898\n\nAIAV's last event for the year is a joint gathering with Jembatan Poetry Society. All welcome (no need to be a member) to listen\, chat or read a poem of your own selection.\n         Come\, come\, whoever you are\,\n        Wanderer\, worshipper\, lover of leaving.\n        This is not a caravan of despair.\n        It does't matter that you've broken\n        your vow a thousand times\, still\n        come\, and yet again\, come.                      \n        RUMI\n   
DTSTAMP:20190228T031831Z
END:VEVENT
END:VCALENDAR
