BEGIN:VCALENDAR
VERSION:2.0
METHOD:PUBLISH
BEGIN:VEVENT
UID:WILD_APRICOT_EVENT_2762577_SESSION_1
DTSTART:20180206T073000Z
DTEND:20180206T093000Z
SUMMARY:Term 1 Language Classes 2018 (session 1 of 8)
LOCATION:Melbourne University\, Hawthorn Campus.  442 Auburn Road\, Hawthorn\, Victoria\, 3122 (Melway 59 E2)
DESCRIPTION:https://www.aiav.org.au/event-2762577\n\nTerm 1 of our language classes commences on 6 February 2018 and the final class is on 27 March. \n  There are 8 classes in total\, each lasting 2 hours. There are a number of class levels. If you are unsure which class you should be in\, or if you believe you need to move levels\, please contact our language team at language@aiav.org.au.\n\n  It is essential that participants in the beginners class attend from the first week of term.\n  You must be a member to enrol:\nLanguage class enrolment is available for AIAV members only. If you are not yet a member\, click here to register as a member first. Then return to this page to enrol for classes.   Variable registration (part of a term):\n  This option is for AIAV members who cannot attend a full term of classes. It is essential that you first discuss this with our language team (email language@aiav.org.au) and make a payment agreement. \n  This option is not available for those starting the Beginner level class. \n\n  For those paying for variable registration\, log in and then click on this link to access the partial term payment page and pay for the number of classes you will be attending. This page is not accessible unless you are an AIAV member and are logged in. \n  AIAV reserves the right to reject and refund partial term payments made without prior agreement.\n\n
DTSTAMP:20190228T031820Z
END:VEVENT
BEGIN:VEVENT
UID:WILD_APRICOT_EVENT_2762577_SESSION_2
DTSTART:20180213T073000Z
DTEND:20180213T093000Z
SUMMARY:Term 1 Language Classes 2018 (session 2 of 8)
LOCATION:Melbourne University\, Hawthorn Campus.  442 Auburn Road\, Hawthorn\, Victoria\, 3122 (Melway 59 E2)
DESCRIPTION:https://www.aiav.org.au/event-2762577\n\nTerm 1 of our language classes commences on 6 February 2018 and the final class is on 27 March. \n  There are 8 classes in total\, each lasting 2 hours. There are a number of class levels. If you are unsure which class you should be in\, or if you believe you need to move levels\, please contact our language team at language@aiav.org.au.\n\n  It is essential that participants in the beginners class attend from the first week of term.\n  You must be a member to enrol:\nLanguage class enrolment is available for AIAV members only. If you are not yet a member\, click here to register as a member first. Then return to this page to enrol for classes.   Variable registration (part of a term):\n  This option is for AIAV members who cannot attend a full term of classes. It is essential that you first discuss this with our language team (email language@aiav.org.au) and make a payment agreement. \n  This option is not available for those starting the Beginner level class. \n\n  For those paying for variable registration\, log in and then click on this link to access the partial term payment page and pay for the number of classes you will be attending. This page is not accessible unless you are an AIAV member and are logged in. \n  AIAV reserves the right to reject and refund partial term payments made without prior agreement.\n\n
DTSTAMP:20190228T031820Z
END:VEVENT
BEGIN:VEVENT
UID:WILD_APRICOT_EVENT_2762577_SESSION_3
DTSTART:20180220T073000Z
DTEND:20180220T093000Z
SUMMARY:Term 1 Language Classes 2018 (session 3 of 8)
LOCATION:Melbourne University\, Hawthorn Campus.  442 Auburn Road\, Hawthorn\, Victoria\, 3122 (Melway 59 E2)
DESCRIPTION:https://www.aiav.org.au/event-2762577\n\nTerm 1 of our language classes commences on 6 February 2018 and the final class is on 27 March. \n  There are 8 classes in total\, each lasting 2 hours. There are a number of class levels. If you are unsure which class you should be in\, or if you believe you need to move levels\, please contact our language team at language@aiav.org.au.\n\n  It is essential that participants in the beginners class attend from the first week of term.\n  You must be a member to enrol:\nLanguage class enrolment is available for AIAV members only. If you are not yet a member\, click here to register as a member first. Then return to this page to enrol for classes.   Variable registration (part of a term):\n  This option is for AIAV members who cannot attend a full term of classes. It is essential that you first discuss this with our language team (email language@aiav.org.au) and make a payment agreement. \n  This option is not available for those starting the Beginner level class. \n\n  For those paying for variable registration\, log in and then click on this link to access the partial term payment page and pay for the number of classes you will be attending. This page is not accessible unless you are an AIAV member and are logged in. \n  AIAV reserves the right to reject and refund partial term payments made without prior agreement.\n\n
DTSTAMP:20190228T031820Z
END:VEVENT
BEGIN:VEVENT
UID:WILD_APRICOT_EVENT_2762577_SESSION_4
DTSTART:20180227T073000Z
DTEND:20180227T093000Z
SUMMARY:Term 1 Language Classes 2018 (session 4 of 8)
LOCATION:Melbourne University\, Hawthorn Campus.  442 Auburn Road\, Hawthorn\, Victoria\, 3122 (Melway 59 E2)
DESCRIPTION:https://www.aiav.org.au/event-2762577\n\nTerm 1 of our language classes commences on 6 February 2018 and the final class is on 27 March. \n  There are 8 classes in total\, each lasting 2 hours. There are a number of class levels. If you are unsure which class you should be in\, or if you believe you need to move levels\, please contact our language team at language@aiav.org.au.\n\n  It is essential that participants in the beginners class attend from the first week of term.\n  You must be a member to enrol:\nLanguage class enrolment is available for AIAV members only. If you are not yet a member\, click here to register as a member first. Then return to this page to enrol for classes.   Variable registration (part of a term):\n  This option is for AIAV members who cannot attend a full term of classes. It is essential that you first discuss this with our language team (email language@aiav.org.au) and make a payment agreement. \n  This option is not available for those starting the Beginner level class. \n\n  For those paying for variable registration\, log in and then click on this link to access the partial term payment page and pay for the number of classes you will be attending. This page is not accessible unless you are an AIAV member and are logged in. \n  AIAV reserves the right to reject and refund partial term payments made without prior agreement.\n\n
DTSTAMP:20190228T031820Z
END:VEVENT
BEGIN:VEVENT
UID:WILD_APRICOT_EVENT_2762577_SESSION_5
DTSTART:20180306T073000Z
DTEND:20180306T093000Z
SUMMARY:Term 1 Language Classes 2018 (session 5 of 8)
LOCATION:Melbourne University\, Hawthorn Campus.  442 Auburn Road\, Hawthorn\, Victoria\, 3122 (Melway 59 E2)
DESCRIPTION:https://www.aiav.org.au/event-2762577\n\nTerm 1 of our language classes commences on 6 February 2018 and the final class is on 27 March. \n  There are 8 classes in total\, each lasting 2 hours. There are a number of class levels. If you are unsure which class you should be in\, or if you believe you need to move levels\, please contact our language team at language@aiav.org.au.\n\n  It is essential that participants in the beginners class attend from the first week of term.\n  You must be a member to enrol:\nLanguage class enrolment is available for AIAV members only. If you are not yet a member\, click here to register as a member first. Then return to this page to enrol for classes.   Variable registration (part of a term):\n  This option is for AIAV members who cannot attend a full term of classes. It is essential that you first discuss this with our language team (email language@aiav.org.au) and make a payment agreement. \n  This option is not available for those starting the Beginner level class. \n\n  For those paying for variable registration\, log in and then click on this link to access the partial term payment page and pay for the number of classes you will be attending. This page is not accessible unless you are an AIAV member and are logged in. \n  AIAV reserves the right to reject and refund partial term payments made without prior agreement.\n\n
DTSTAMP:20190228T031820Z
END:VEVENT
BEGIN:VEVENT
UID:WILD_APRICOT_EVENT_2762577_SESSION_6
DTSTART:20180313T073000Z
DTEND:20180313T093000Z
SUMMARY:Term 1 Language Classes 2018 (session 6 of 8)
LOCATION:Melbourne University\, Hawthorn Campus.  442 Auburn Road\, Hawthorn\, Victoria\, 3122 (Melway 59 E2)
DESCRIPTION:https://www.aiav.org.au/event-2762577\n\nTerm 1 of our language classes commences on 6 February 2018 and the final class is on 27 March. \n  There are 8 classes in total\, each lasting 2 hours. There are a number of class levels. If you are unsure which class you should be in\, or if you believe you need to move levels\, please contact our language team at language@aiav.org.au.\n\n  It is essential that participants in the beginners class attend from the first week of term.\n  You must be a member to enrol:\nLanguage class enrolment is available for AIAV members only. If you are not yet a member\, click here to register as a member first. Then return to this page to enrol for classes.   Variable registration (part of a term):\n  This option is for AIAV members who cannot attend a full term of classes. It is essential that you first discuss this with our language team (email language@aiav.org.au) and make a payment agreement. \n  This option is not available for those starting the Beginner level class. \n\n  For those paying for variable registration\, log in and then click on this link to access the partial term payment page and pay for the number of classes you will be attending. This page is not accessible unless you are an AIAV member and are logged in. \n  AIAV reserves the right to reject and refund partial term payments made without prior agreement.\n\n
DTSTAMP:20190228T031820Z
END:VEVENT
BEGIN:VEVENT
UID:WILD_APRICOT_EVENT_2762577_SESSION_7
DTSTART:20180320T073000Z
DTEND:20180320T093000Z
SUMMARY:Term 1 Language Classes 2018 (session 7 of 8)
LOCATION:Melbourne University\, Hawthorn Campus.  442 Auburn Road\, Hawthorn\, Victoria\, 3122 (Melway 59 E2)
DESCRIPTION:https://www.aiav.org.au/event-2762577\n\nTerm 1 of our language classes commences on 6 February 2018 and the final class is on 27 March. \n  There are 8 classes in total\, each lasting 2 hours. There are a number of class levels. If you are unsure which class you should be in\, or if you believe you need to move levels\, please contact our language team at language@aiav.org.au.\n\n  It is essential that participants in the beginners class attend from the first week of term.\n  You must be a member to enrol:\nLanguage class enrolment is available for AIAV members only. If you are not yet a member\, click here to register as a member first. Then return to this page to enrol for classes.   Variable registration (part of a term):\n  This option is for AIAV members who cannot attend a full term of classes. It is essential that you first discuss this with our language team (email language@aiav.org.au) and make a payment agreement. \n  This option is not available for those starting the Beginner level class. \n\n  For those paying for variable registration\, log in and then click on this link to access the partial term payment page and pay for the number of classes you will be attending. This page is not accessible unless you are an AIAV member and are logged in. \n  AIAV reserves the right to reject and refund partial term payments made without prior agreement.\n\n
DTSTAMP:20190228T031820Z
END:VEVENT
BEGIN:VEVENT
UID:WILD_APRICOT_EVENT_2762577_SESSION_8
DTSTART:20180327T073000Z
DTEND:20180327T093000Z
SUMMARY:Term 1 Language Classes 2018 (session 8 of 8)
LOCATION:Melbourne University\, Hawthorn Campus.  442 Auburn Road\, Hawthorn\, Victoria\, 3122 (Melway 59 E2)
DESCRIPTION:https://www.aiav.org.au/event-2762577\n\nTerm 1 of our language classes commences on 6 February 2018 and the final class is on 27 March. \n  There are 8 classes in total\, each lasting 2 hours. There are a number of class levels. If you are unsure which class you should be in\, or if you believe you need to move levels\, please contact our language team at language@aiav.org.au.\n\n  It is essential that participants in the beginners class attend from the first week of term.\n  You must be a member to enrol:\nLanguage class enrolment is available for AIAV members only. If you are not yet a member\, click here to register as a member first. Then return to this page to enrol for classes.   Variable registration (part of a term):\n  This option is for AIAV members who cannot attend a full term of classes. It is essential that you first discuss this with our language team (email language@aiav.org.au) and make a payment agreement. \n  This option is not available for those starting the Beginner level class. \n\n  For those paying for variable registration\, log in and then click on this link to access the partial term payment page and pay for the number of classes you will be attending. This page is not accessible unless you are an AIAV member and are logged in. \n  AIAV reserves the right to reject and refund partial term payments made without prior agreement.\n\n
DTSTAMP:20190228T031820Z
END:VEVENT
END:VCALENDAR
