BEGIN:VCALENDAR
VERSION:2.0
METHOD:PUBLISH
BEGIN:VEVENT
UID:WILD_APRICOT_EVENT_2820323_SESSION_1
DTSTART:20180210T040000Z
DTEND:20180210T060000Z
SUMMARY:Siang Ngobrol Februari 2018
LOCATION:Royal Botanic Gardens\, Birdwood Ave\, South Yarra VIC 3141
DESCRIPTION:https://www.aiav.org.au/event-2820323\n\nThis is our regular monthly conversation evening (or in this case afternoon)\, which is a great opportunity to practise your Bahasa Indonesia in a social situation. Suitable for total beginners through to seasoned experts. Usually we have a few native speakers attend also. Please bring something small to share for afternoon tea. Friends and partners welcome!\n  Location info:\n\n  Meet on the opposite side of the lake from the Terrace Cafe\, a short walk from Gate A at the corner of Anderson St and Alexandra Ave at 3:00 pm. If at first you don't find us\, keep walking along the path that goes around the Alexandra Ave side of the lake and listen for Indonesian and raucous laughter! We won't be too far away from the cafe\, in case it rains (or people need coffee!). For more information\, contact Karina on 0405 528 491.\n
DTSTAMP:20190228T031804Z
END:VEVENT
END:VCALENDAR
