BEGIN:VCALENDAR
VERSION:2.0
METHOD:PUBLISH
BEGIN:VEVENT
UID:WILD_APRICOT_EVENT_2853305_SESSION_1
DTSTART:20180309T090000Z
DTEND:20180309T110000Z
SUMMARY:Malam Ngobrol March 2018
LOCATION:The home of Karina Noontil\, 2/11 Middlesex Rd\, Surrey Hills 3127 Melway Ref: 46 F11/12
DESCRIPTION:https://www.aiav.org.au/event-2853305\n\nAyo\, mari kita mengobrol!\n  This is our regular monthly conversation evening\, and an opportunity to practise your Bahasa Indonesia in a social situation. Suitable for total beginners through to seasoned experts. Usually we have a few native speakers attend also. Please bring something small to share for supper.\nLocation info from Karina:  My unit is the middle unit of three on the block and is only 5 mins walk from Chatham Station on the Belgrave/Lilydale line (out of the station turn south\, cross Canterbury Rd\, head east and Middlesex Rd is on your right) or 10–15 min walk from Stop 52 on the Wattle Park tram line (No 70) in Riversdale Rd. (Middlesex Rd is the next left from the stop and my place is down the other end of the street.) \n
DTSTAMP:20190228T031752Z
END:VEVENT
END:VCALENDAR
