BEGIN:VCALENDAR
VERSION:2.0
METHOD:PUBLISH
BEGIN:VEVENT
UID:WILD_APRICOT_EVENT_2858885_SESSION_1
DTSTART:20180417T083000Z
DTEND:20180417T103000Z
SUMMARY:Term 2 Language Classes 2018 (session 1 of 10)
LOCATION:Melbourne University\, Hawthorn Campus.  442 Auburn Road\, Hawthorn\, Victoria\, 3122 (Melway 59 E2)
DESCRIPTION:https://www.aiav.org.au/event-2858885\n\nTerm 2 of our language classes commences on 17 April 2018 and the final class is on 19 June. \n  There are 10 classes in total\, each lasting 2 hours.\n\n  There are a number of class levels. If you are unsure which class you should be in\, or if you believe you need to move levels\, please contact our language team at language@aiav.org.au.\n\n  It is essential that participants in the introductory (absolute beginner) class attend from the first week of term.\n  \n\n  You must be a member to enrol:\n\n  Language class enrolment is available for AIAV members only. If you are not yet a member\, click here to register as a member first. Then return to this page to enrol for classes. \n  \n\n  Variable registration (part of a term):\n  This option is for AIAV members who cannot attend a full term of classes. It is essential that you first discuss this with our language team (email language@aiav.org.au) and make a payment agreement. \n  This option is not available for those starting the introductory level class. \n\n  For those paying for variable registration\, log in and then click on this link to access the partial term payment page and pay for the number of classes you will be attending. This page is not accessible unless you are an AIAV member and are logged in. This process requires you to register and then pay in two steps\, please ensure you hae completed both of these steps.\n\n  AIAV reserves the right to reject and refund partial term payments made without prior agreement.\n\n
DTSTAMP:20190228T031725Z
END:VEVENT
BEGIN:VEVENT
UID:WILD_APRICOT_EVENT_2858885_SESSION_2
DTSTART:20180424T083000Z
DTEND:20180424T103000Z
SUMMARY:Term 2 Language Classes 2018 (session 2 of 10)
LOCATION:Melbourne University\, Hawthorn Campus.  442 Auburn Road\, Hawthorn\, Victoria\, 3122 (Melway 59 E2)
DESCRIPTION:https://www.aiav.org.au/event-2858885\n\nTerm 2 of our language classes commences on 17 April 2018 and the final class is on 19 June. \n  There are 10 classes in total\, each lasting 2 hours.\n\n  There are a number of class levels. If you are unsure which class you should be in\, or if you believe you need to move levels\, please contact our language team at language@aiav.org.au.\n\n  It is essential that participants in the introductory (absolute beginner) class attend from the first week of term.\n  \n\n  You must be a member to enrol:\n\n  Language class enrolment is available for AIAV members only. If you are not yet a member\, click here to register as a member first. Then return to this page to enrol for classes. \n  \n\n  Variable registration (part of a term):\n  This option is for AIAV members who cannot attend a full term of classes. It is essential that you first discuss this with our language team (email language@aiav.org.au) and make a payment agreement. \n  This option is not available for those starting the introductory level class. \n\n  For those paying for variable registration\, log in and then click on this link to access the partial term payment page and pay for the number of classes you will be attending. This page is not accessible unless you are an AIAV member and are logged in. This process requires you to register and then pay in two steps\, please ensure you hae completed both of these steps.\n\n  AIAV reserves the right to reject and refund partial term payments made without prior agreement.\n\n
DTSTAMP:20190228T031725Z
END:VEVENT
BEGIN:VEVENT
UID:WILD_APRICOT_EVENT_2858885_SESSION_3
DTSTART:20180501T083000Z
DTEND:20180501T103000Z
SUMMARY:Term 2 Language Classes 2018 (session 3 of 10)
LOCATION:Melbourne University\, Hawthorn Campus.  442 Auburn Road\, Hawthorn\, Victoria\, 3122 (Melway 59 E2)
DESCRIPTION:https://www.aiav.org.au/event-2858885\n\nTerm 2 of our language classes commences on 17 April 2018 and the final class is on 19 June. \n  There are 10 classes in total\, each lasting 2 hours.\n\n  There are a number of class levels. If you are unsure which class you should be in\, or if you believe you need to move levels\, please contact our language team at language@aiav.org.au.\n\n  It is essential that participants in the introductory (absolute beginner) class attend from the first week of term.\n  \n\n  You must be a member to enrol:\n\n  Language class enrolment is available for AIAV members only. If you are not yet a member\, click here to register as a member first. Then return to this page to enrol for classes. \n  \n\n  Variable registration (part of a term):\n  This option is for AIAV members who cannot attend a full term of classes. It is essential that you first discuss this with our language team (email language@aiav.org.au) and make a payment agreement. \n  This option is not available for those starting the introductory level class. \n\n  For those paying for variable registration\, log in and then click on this link to access the partial term payment page and pay for the number of classes you will be attending. This page is not accessible unless you are an AIAV member and are logged in. This process requires you to register and then pay in two steps\, please ensure you hae completed both of these steps.\n\n  AIAV reserves the right to reject and refund partial term payments made without prior agreement.\n\n
DTSTAMP:20190228T031725Z
END:VEVENT
BEGIN:VEVENT
UID:WILD_APRICOT_EVENT_2858885_SESSION_4
DTSTART:20180508T083000Z
DTEND:20180508T103000Z
SUMMARY:Term 2 Language Classes 2018 (session 4 of 10)
LOCATION:Melbourne University\, Hawthorn Campus.  442 Auburn Road\, Hawthorn\, Victoria\, 3122 (Melway 59 E2)
DESCRIPTION:https://www.aiav.org.au/event-2858885\n\nTerm 2 of our language classes commences on 17 April 2018 and the final class is on 19 June. \n  There are 10 classes in total\, each lasting 2 hours.\n\n  There are a number of class levels. If you are unsure which class you should be in\, or if you believe you need to move levels\, please contact our language team at language@aiav.org.au.\n\n  It is essential that participants in the introductory (absolute beginner) class attend from the first week of term.\n  \n\n  You must be a member to enrol:\n\n  Language class enrolment is available for AIAV members only. If you are not yet a member\, click here to register as a member first. Then return to this page to enrol for classes. \n  \n\n  Variable registration (part of a term):\n  This option is for AIAV members who cannot attend a full term of classes. It is essential that you first discuss this with our language team (email language@aiav.org.au) and make a payment agreement. \n  This option is not available for those starting the introductory level class. \n\n  For those paying for variable registration\, log in and then click on this link to access the partial term payment page and pay for the number of classes you will be attending. This page is not accessible unless you are an AIAV member and are logged in. This process requires you to register and then pay in two steps\, please ensure you hae completed both of these steps.\n\n  AIAV reserves the right to reject and refund partial term payments made without prior agreement.\n\n
DTSTAMP:20190228T031725Z
END:VEVENT
BEGIN:VEVENT
UID:WILD_APRICOT_EVENT_2858885_SESSION_5
DTSTART:20180515T083000Z
DTEND:20180515T103000Z
SUMMARY:Term 2 Language Classes 2018 (session 5 of 10)
LOCATION:Melbourne University\, Hawthorn Campus.  442 Auburn Road\, Hawthorn\, Victoria\, 3122 (Melway 59 E2)
DESCRIPTION:https://www.aiav.org.au/event-2858885\n\nTerm 2 of our language classes commences on 17 April 2018 and the final class is on 19 June. \n  There are 10 classes in total\, each lasting 2 hours.\n\n  There are a number of class levels. If you are unsure which class you should be in\, or if you believe you need to move levels\, please contact our language team at language@aiav.org.au.\n\n  It is essential that participants in the introductory (absolute beginner) class attend from the first week of term.\n  \n\n  You must be a member to enrol:\n\n  Language class enrolment is available for AIAV members only. If you are not yet a member\, click here to register as a member first. Then return to this page to enrol for classes. \n  \n\n  Variable registration (part of a term):\n  This option is for AIAV members who cannot attend a full term of classes. It is essential that you first discuss this with our language team (email language@aiav.org.au) and make a payment agreement. \n  This option is not available for those starting the introductory level class. \n\n  For those paying for variable registration\, log in and then click on this link to access the partial term payment page and pay for the number of classes you will be attending. This page is not accessible unless you are an AIAV member and are logged in. This process requires you to register and then pay in two steps\, please ensure you hae completed both of these steps.\n\n  AIAV reserves the right to reject and refund partial term payments made without prior agreement.\n\n
DTSTAMP:20190228T031725Z
END:VEVENT
BEGIN:VEVENT
UID:WILD_APRICOT_EVENT_2858885_SESSION_6
DTSTART:20180522T083000Z
DTEND:20180522T103000Z
SUMMARY:Term 2 Language Classes 2018 (session 6 of 10)
LOCATION:Melbourne University\, Hawthorn Campus.  442 Auburn Road\, Hawthorn\, Victoria\, 3122 (Melway 59 E2)
DESCRIPTION:https://www.aiav.org.au/event-2858885\n\nTerm 2 of our language classes commences on 17 April 2018 and the final class is on 19 June. \n  There are 10 classes in total\, each lasting 2 hours.\n\n  There are a number of class levels. If you are unsure which class you should be in\, or if you believe you need to move levels\, please contact our language team at language@aiav.org.au.\n\n  It is essential that participants in the introductory (absolute beginner) class attend from the first week of term.\n  \n\n  You must be a member to enrol:\n\n  Language class enrolment is available for AIAV members only. If you are not yet a member\, click here to register as a member first. Then return to this page to enrol for classes. \n  \n\n  Variable registration (part of a term):\n  This option is for AIAV members who cannot attend a full term of classes. It is essential that you first discuss this with our language team (email language@aiav.org.au) and make a payment agreement. \n  This option is not available for those starting the introductory level class. \n\n  For those paying for variable registration\, log in and then click on this link to access the partial term payment page and pay for the number of classes you will be attending. This page is not accessible unless you are an AIAV member and are logged in. This process requires you to register and then pay in two steps\, please ensure you hae completed both of these steps.\n\n  AIAV reserves the right to reject and refund partial term payments made without prior agreement.\n\n
DTSTAMP:20190228T031725Z
END:VEVENT
BEGIN:VEVENT
UID:WILD_APRICOT_EVENT_2858885_SESSION_7
DTSTART:20180529T083000Z
DTEND:20180529T103000Z
SUMMARY:Term 2 Language Classes 2018 (session 7 of 10)
LOCATION:Melbourne University\, Hawthorn Campus.  442 Auburn Road\, Hawthorn\, Victoria\, 3122 (Melway 59 E2)
DESCRIPTION:https://www.aiav.org.au/event-2858885\n\nTerm 2 of our language classes commences on 17 April 2018 and the final class is on 19 June. \n  There are 10 classes in total\, each lasting 2 hours.\n\n  There are a number of class levels. If you are unsure which class you should be in\, or if you believe you need to move levels\, please contact our language team at language@aiav.org.au.\n\n  It is essential that participants in the introductory (absolute beginner) class attend from the first week of term.\n  \n\n  You must be a member to enrol:\n\n  Language class enrolment is available for AIAV members only. If you are not yet a member\, click here to register as a member first. Then return to this page to enrol for classes. \n  \n\n  Variable registration (part of a term):\n  This option is for AIAV members who cannot attend a full term of classes. It is essential that you first discuss this with our language team (email language@aiav.org.au) and make a payment agreement. \n  This option is not available for those starting the introductory level class. \n\n  For those paying for variable registration\, log in and then click on this link to access the partial term payment page and pay for the number of classes you will be attending. This page is not accessible unless you are an AIAV member and are logged in. This process requires you to register and then pay in two steps\, please ensure you hae completed both of these steps.\n\n  AIAV reserves the right to reject and refund partial term payments made without prior agreement.\n\n
DTSTAMP:20190228T031725Z
END:VEVENT
BEGIN:VEVENT
UID:WILD_APRICOT_EVENT_2858885_SESSION_8
DTSTART:20180605T083000Z
DTEND:20180605T103000Z
SUMMARY:Term 2 Language Classes 2018 (session 8 of 10)
LOCATION:Melbourne University\, Hawthorn Campus.  442 Auburn Road\, Hawthorn\, Victoria\, 3122 (Melway 59 E2)
DESCRIPTION:https://www.aiav.org.au/event-2858885\n\nTerm 2 of our language classes commences on 17 April 2018 and the final class is on 19 June. \n  There are 10 classes in total\, each lasting 2 hours.\n\n  There are a number of class levels. If you are unsure which class you should be in\, or if you believe you need to move levels\, please contact our language team at language@aiav.org.au.\n\n  It is essential that participants in the introductory (absolute beginner) class attend from the first week of term.\n  \n\n  You must be a member to enrol:\n\n  Language class enrolment is available for AIAV members only. If you are not yet a member\, click here to register as a member first. Then return to this page to enrol for classes. \n  \n\n  Variable registration (part of a term):\n  This option is for AIAV members who cannot attend a full term of classes. It is essential that you first discuss this with our language team (email language@aiav.org.au) and make a payment agreement. \n  This option is not available for those starting the introductory level class. \n\n  For those paying for variable registration\, log in and then click on this link to access the partial term payment page and pay for the number of classes you will be attending. This page is not accessible unless you are an AIAV member and are logged in. This process requires you to register and then pay in two steps\, please ensure you hae completed both of these steps.\n\n  AIAV reserves the right to reject and refund partial term payments made without prior agreement.\n\n
DTSTAMP:20190228T031725Z
END:VEVENT
BEGIN:VEVENT
UID:WILD_APRICOT_EVENT_2858885_SESSION_9
DTSTART:20180612T083000Z
DTEND:20180612T103000Z
SUMMARY:Term 2 Language Classes 2018 (session 9 of 10)
LOCATION:Melbourne University\, Hawthorn Campus.  442 Auburn Road\, Hawthorn\, Victoria\, 3122 (Melway 59 E2)
DESCRIPTION:https://www.aiav.org.au/event-2858885\n\nTerm 2 of our language classes commences on 17 April 2018 and the final class is on 19 June. \n  There are 10 classes in total\, each lasting 2 hours.\n\n  There are a number of class levels. If you are unsure which class you should be in\, or if you believe you need to move levels\, please contact our language team at language@aiav.org.au.\n\n  It is essential that participants in the introductory (absolute beginner) class attend from the first week of term.\n  \n\n  You must be a member to enrol:\n\n  Language class enrolment is available for AIAV members only. If you are not yet a member\, click here to register as a member first. Then return to this page to enrol for classes. \n  \n\n  Variable registration (part of a term):\n  This option is for AIAV members who cannot attend a full term of classes. It is essential that you first discuss this with our language team (email language@aiav.org.au) and make a payment agreement. \n  This option is not available for those starting the introductory level class. \n\n  For those paying for variable registration\, log in and then click on this link to access the partial term payment page and pay for the number of classes you will be attending. This page is not accessible unless you are an AIAV member and are logged in. This process requires you to register and then pay in two steps\, please ensure you hae completed both of these steps.\n\n  AIAV reserves the right to reject and refund partial term payments made without prior agreement.\n\n
DTSTAMP:20190228T031725Z
END:VEVENT
BEGIN:VEVENT
UID:WILD_APRICOT_EVENT_2858885_SESSION_10
DTSTART:20180619T083000Z
DTEND:20180619T103000Z
SUMMARY:Term 2 Language Classes 2018 (session 10 of 10)
LOCATION:Melbourne University\, Hawthorn Campus.  442 Auburn Road\, Hawthorn\, Victoria\, 3122 (Melway 59 E2)
DESCRIPTION:https://www.aiav.org.au/event-2858885\n\nTerm 2 of our language classes commences on 17 April 2018 and the final class is on 19 June. \n  There are 10 classes in total\, each lasting 2 hours.\n\n  There are a number of class levels. If you are unsure which class you should be in\, or if you believe you need to move levels\, please contact our language team at language@aiav.org.au.\n\n  It is essential that participants in the introductory (absolute beginner) class attend from the first week of term.\n  \n\n  You must be a member to enrol:\n\n  Language class enrolment is available for AIAV members only. If you are not yet a member\, click here to register as a member first. Then return to this page to enrol for classes. \n  \n\n  Variable registration (part of a term):\n  This option is for AIAV members who cannot attend a full term of classes. It is essential that you first discuss this with our language team (email language@aiav.org.au) and make a payment agreement. \n  This option is not available for those starting the introductory level class. \n\n  For those paying for variable registration\, log in and then click on this link to access the partial term payment page and pay for the number of classes you will be attending. This page is not accessible unless you are an AIAV member and are logged in. This process requires you to register and then pay in two steps\, please ensure you hae completed both of these steps.\n\n  AIAV reserves the right to reject and refund partial term payments made without prior agreement.\n\n
DTSTAMP:20190228T031725Z
END:VEVENT
END:VCALENDAR
