BEGIN:VCALENDAR
VERSION:2.0
METHOD:PUBLISH
BEGIN:VEVENT
UID:WILD_APRICOT_EVENT_2884572_SESSION_1
DTSTART:20180413T100000Z
DTEND:20180413T120000Z
SUMMARY:Malam Ngobrol April 2018
LOCATION:The home of Steve Dobney\, 83 Victoria Street\, Brunswick East
DESCRIPTION:https://www.aiav.org.au/event-2884572\n\nAyo\, mari kita mengobrol!\n  This is our regular monthly conversation evening\, and an opportunity to practise your Bahasa Indonesia in a social situation. Suitable for total beginners through to seasoned experts. Usually we have a few native speakers attend also. Please bring something small to share for supper.\nLocation info:  We are located between Nicholson and Lygon streets in East Brunswick\, so good public transport options: number 96 tram up Nicholson Street or number 1 or 6 tram up Lygon Street. The house has a wavy hedge. \n
DTSTAMP:20190228T031738Z
END:VEVENT
END:VCALENDAR
