BEGIN:VCALENDAR
VERSION:2.0
METHOD:PUBLISH
BEGIN:VEVENT
UID:WILD_APRICOT_EVENT_2964152_SESSION_1
DTSTART:20180717T083000Z
DTEND:20180717T103000Z
SUMMARY:Term 3 Language Class 2018 *HAWTHORN* (session 1 of 10)
LOCATION:Melbourne University\, Hawthorn Campus.  442 Auburn Road\, Hawthorn\, Victoria\, 3122 (Melway 59 E2)
DESCRIPTION:https://www.aiav.org.au/event-2964152\n\nTerm 3 of our Hawthorn language classes commences on 17 July 2018 and the final class is on 18 September 2018. \n  There are 10 classes in total\, each lasting 2 hours.\n\n  There are a number of class levels. If you are unsure which class you should be in\, or if you believe you need to move levels\, please contact our language team at language@aiav.org.au.\n\n  It is essential that participants in the introductory (absolute beginner) class attend from the first week of term.\n  \n\n  You must be an AIAV member to enrol:\n\n  Language class enrolment is available for AIAV members only. If you are not yet a member\, click here to register as a member first. Then return to this page to enrol for classes. \n  \n\n  Variable registration (part of a term):\n  This option is for AIAV members who cannot attend a full term of classes. It is essential that you first discuss this with our language team (email language@aiav.org.au) and make a payment agreement. \n  This option is not available for those starting the introductory level class. \n\n  For those paying for variable registration\, log in and then click on this link to access the partial term payment page and pay for the number of classes you will be attending. This page is not accessible unless you are an AIAV member and are logged in. This process requires you to register and then pay in two steps\, please ensure you hae completed both of these steps.\n\n  AIAV reserves the right to reject and refund partial term payments made without prior agreement.\n\n
DTSTAMP:20190228T031714Z
END:VEVENT
BEGIN:VEVENT
UID:WILD_APRICOT_EVENT_2964152_SESSION_2
DTSTART:20180724T083000Z
DTEND:20180724T103000Z
SUMMARY:Term 3 Language Class 2018 *HAWTHORN* (session 2 of 10)
LOCATION:Melbourne University\, Hawthorn Campus.  442 Auburn Road\, Hawthorn\, Victoria\, 3122 (Melway 59 E2)
DESCRIPTION:https://www.aiav.org.au/event-2964152\n\nTerm 3 of our Hawthorn language classes commences on 17 July 2018 and the final class is on 18 September 2018. \n  There are 10 classes in total\, each lasting 2 hours.\n\n  There are a number of class levels. If you are unsure which class you should be in\, or if you believe you need to move levels\, please contact our language team at language@aiav.org.au.\n\n  It is essential that participants in the introductory (absolute beginner) class attend from the first week of term.\n  \n\n  You must be an AIAV member to enrol:\n\n  Language class enrolment is available for AIAV members only. If you are not yet a member\, click here to register as a member first. Then return to this page to enrol for classes. \n  \n\n  Variable registration (part of a term):\n  This option is for AIAV members who cannot attend a full term of classes. It is essential that you first discuss this with our language team (email language@aiav.org.au) and make a payment agreement. \n  This option is not available for those starting the introductory level class. \n\n  For those paying for variable registration\, log in and then click on this link to access the partial term payment page and pay for the number of classes you will be attending. This page is not accessible unless you are an AIAV member and are logged in. This process requires you to register and then pay in two steps\, please ensure you hae completed both of these steps.\n\n  AIAV reserves the right to reject and refund partial term payments made without prior agreement.\n\n
DTSTAMP:20190228T031714Z
END:VEVENT
BEGIN:VEVENT
UID:WILD_APRICOT_EVENT_2964152_SESSION_3
DTSTART:20180731T083000Z
DTEND:20180731T103000Z
SUMMARY:Term 3 Language Class 2018 *HAWTHORN* (session 3 of 10)
LOCATION:Melbourne University\, Hawthorn Campus.  442 Auburn Road\, Hawthorn\, Victoria\, 3122 (Melway 59 E2)
DESCRIPTION:https://www.aiav.org.au/event-2964152\n\nTerm 3 of our Hawthorn language classes commences on 17 July 2018 and the final class is on 18 September 2018. \n  There are 10 classes in total\, each lasting 2 hours.\n\n  There are a number of class levels. If you are unsure which class you should be in\, or if you believe you need to move levels\, please contact our language team at language@aiav.org.au.\n\n  It is essential that participants in the introductory (absolute beginner) class attend from the first week of term.\n  \n\n  You must be an AIAV member to enrol:\n\n  Language class enrolment is available for AIAV members only. If you are not yet a member\, click here to register as a member first. Then return to this page to enrol for classes. \n  \n\n  Variable registration (part of a term):\n  This option is for AIAV members who cannot attend a full term of classes. It is essential that you first discuss this with our language team (email language@aiav.org.au) and make a payment agreement. \n  This option is not available for those starting the introductory level class. \n\n  For those paying for variable registration\, log in and then click on this link to access the partial term payment page and pay for the number of classes you will be attending. This page is not accessible unless you are an AIAV member and are logged in. This process requires you to register and then pay in two steps\, please ensure you hae completed both of these steps.\n\n  AIAV reserves the right to reject and refund partial term payments made without prior agreement.\n\n
DTSTAMP:20190228T031714Z
END:VEVENT
BEGIN:VEVENT
UID:WILD_APRICOT_EVENT_2964152_SESSION_4
DTSTART:20180807T083000Z
DTEND:20180807T103000Z
SUMMARY:Term 3 Language Class 2018 *HAWTHORN* (session 4 of 10)
LOCATION:Melbourne University\, Hawthorn Campus.  442 Auburn Road\, Hawthorn\, Victoria\, 3122 (Melway 59 E2)
DESCRIPTION:https://www.aiav.org.au/event-2964152\n\nTerm 3 of our Hawthorn language classes commences on 17 July 2018 and the final class is on 18 September 2018. \n  There are 10 classes in total\, each lasting 2 hours.\n\n  There are a number of class levels. If you are unsure which class you should be in\, or if you believe you need to move levels\, please contact our language team at language@aiav.org.au.\n\n  It is essential that participants in the introductory (absolute beginner) class attend from the first week of term.\n  \n\n  You must be an AIAV member to enrol:\n\n  Language class enrolment is available for AIAV members only. If you are not yet a member\, click here to register as a member first. Then return to this page to enrol for classes. \n  \n\n  Variable registration (part of a term):\n  This option is for AIAV members who cannot attend a full term of classes. It is essential that you first discuss this with our language team (email language@aiav.org.au) and make a payment agreement. \n  This option is not available for those starting the introductory level class. \n\n  For those paying for variable registration\, log in and then click on this link to access the partial term payment page and pay for the number of classes you will be attending. This page is not accessible unless you are an AIAV member and are logged in. This process requires you to register and then pay in two steps\, please ensure you hae completed both of these steps.\n\n  AIAV reserves the right to reject and refund partial term payments made without prior agreement.\n\n
DTSTAMP:20190228T031714Z
END:VEVENT
BEGIN:VEVENT
UID:WILD_APRICOT_EVENT_2964152_SESSION_5
DTSTART:20180814T083000Z
DTEND:20180814T103000Z
SUMMARY:Term 3 Language Class 2018 *HAWTHORN* (session 5 of 10)
LOCATION:Melbourne University\, Hawthorn Campus.  442 Auburn Road\, Hawthorn\, Victoria\, 3122 (Melway 59 E2)
DESCRIPTION:https://www.aiav.org.au/event-2964152\n\nTerm 3 of our Hawthorn language classes commences on 17 July 2018 and the final class is on 18 September 2018. \n  There are 10 classes in total\, each lasting 2 hours.\n\n  There are a number of class levels. If you are unsure which class you should be in\, or if you believe you need to move levels\, please contact our language team at language@aiav.org.au.\n\n  It is essential that participants in the introductory (absolute beginner) class attend from the first week of term.\n  \n\n  You must be an AIAV member to enrol:\n\n  Language class enrolment is available for AIAV members only. If you are not yet a member\, click here to register as a member first. Then return to this page to enrol for classes. \n  \n\n  Variable registration (part of a term):\n  This option is for AIAV members who cannot attend a full term of classes. It is essential that you first discuss this with our language team (email language@aiav.org.au) and make a payment agreement. \n  This option is not available for those starting the introductory level class. \n\n  For those paying for variable registration\, log in and then click on this link to access the partial term payment page and pay for the number of classes you will be attending. This page is not accessible unless you are an AIAV member and are logged in. This process requires you to register and then pay in two steps\, please ensure you hae completed both of these steps.\n\n  AIAV reserves the right to reject and refund partial term payments made without prior agreement.\n\n
DTSTAMP:20190228T031714Z
END:VEVENT
BEGIN:VEVENT
UID:WILD_APRICOT_EVENT_2964152_SESSION_6
DTSTART:20180821T083000Z
DTEND:20180821T103000Z
SUMMARY:Term 3 Language Class 2018 *HAWTHORN* (session 6 of 10)
LOCATION:Melbourne University\, Hawthorn Campus.  442 Auburn Road\, Hawthorn\, Victoria\, 3122 (Melway 59 E2)
DESCRIPTION:https://www.aiav.org.au/event-2964152\n\nTerm 3 of our Hawthorn language classes commences on 17 July 2018 and the final class is on 18 September 2018. \n  There are 10 classes in total\, each lasting 2 hours.\n\n  There are a number of class levels. If you are unsure which class you should be in\, or if you believe you need to move levels\, please contact our language team at language@aiav.org.au.\n\n  It is essential that participants in the introductory (absolute beginner) class attend from the first week of term.\n  \n\n  You must be an AIAV member to enrol:\n\n  Language class enrolment is available for AIAV members only. If you are not yet a member\, click here to register as a member first. Then return to this page to enrol for classes. \n  \n\n  Variable registration (part of a term):\n  This option is for AIAV members who cannot attend a full term of classes. It is essential that you first discuss this with our language team (email language@aiav.org.au) and make a payment agreement. \n  This option is not available for those starting the introductory level class. \n\n  For those paying for variable registration\, log in and then click on this link to access the partial term payment page and pay for the number of classes you will be attending. This page is not accessible unless you are an AIAV member and are logged in. This process requires you to register and then pay in two steps\, please ensure you hae completed both of these steps.\n\n  AIAV reserves the right to reject and refund partial term payments made without prior agreement.\n\n
DTSTAMP:20190228T031714Z
END:VEVENT
BEGIN:VEVENT
UID:WILD_APRICOT_EVENT_2964152_SESSION_7
DTSTART:20180828T083000Z
DTEND:20180828T103000Z
SUMMARY:Term 3 Language Class 2018 *HAWTHORN* (session 7 of 10)
LOCATION:Melbourne University\, Hawthorn Campus.  442 Auburn Road\, Hawthorn\, Victoria\, 3122 (Melway 59 E2)
DESCRIPTION:https://www.aiav.org.au/event-2964152\n\nTerm 3 of our Hawthorn language classes commences on 17 July 2018 and the final class is on 18 September 2018. \n  There are 10 classes in total\, each lasting 2 hours.\n\n  There are a number of class levels. If you are unsure which class you should be in\, or if you believe you need to move levels\, please contact our language team at language@aiav.org.au.\n\n  It is essential that participants in the introductory (absolute beginner) class attend from the first week of term.\n  \n\n  You must be an AIAV member to enrol:\n\n  Language class enrolment is available for AIAV members only. If you are not yet a member\, click here to register as a member first. Then return to this page to enrol for classes. \n  \n\n  Variable registration (part of a term):\n  This option is for AIAV members who cannot attend a full term of classes. It is essential that you first discuss this with our language team (email language@aiav.org.au) and make a payment agreement. \n  This option is not available for those starting the introductory level class. \n\n  For those paying for variable registration\, log in and then click on this link to access the partial term payment page and pay for the number of classes you will be attending. This page is not accessible unless you are an AIAV member and are logged in. This process requires you to register and then pay in two steps\, please ensure you hae completed both of these steps.\n\n  AIAV reserves the right to reject and refund partial term payments made without prior agreement.\n\n
DTSTAMP:20190228T031714Z
END:VEVENT
BEGIN:VEVENT
UID:WILD_APRICOT_EVENT_2964152_SESSION_8
DTSTART:20180904T083000Z
DTEND:20180904T103000Z
SUMMARY:Term 3 Language Class 2018 *HAWTHORN* (session 8 of 10)
LOCATION:Melbourne University\, Hawthorn Campus.  442 Auburn Road\, Hawthorn\, Victoria\, 3122 (Melway 59 E2)
DESCRIPTION:https://www.aiav.org.au/event-2964152\n\nTerm 3 of our Hawthorn language classes commences on 17 July 2018 and the final class is on 18 September 2018. \n  There are 10 classes in total\, each lasting 2 hours.\n\n  There are a number of class levels. If you are unsure which class you should be in\, or if you believe you need to move levels\, please contact our language team at language@aiav.org.au.\n\n  It is essential that participants in the introductory (absolute beginner) class attend from the first week of term.\n  \n\n  You must be an AIAV member to enrol:\n\n  Language class enrolment is available for AIAV members only. If you are not yet a member\, click here to register as a member first. Then return to this page to enrol for classes. \n  \n\n  Variable registration (part of a term):\n  This option is for AIAV members who cannot attend a full term of classes. It is essential that you first discuss this with our language team (email language@aiav.org.au) and make a payment agreement. \n  This option is not available for those starting the introductory level class. \n\n  For those paying for variable registration\, log in and then click on this link to access the partial term payment page and pay for the number of classes you will be attending. This page is not accessible unless you are an AIAV member and are logged in. This process requires you to register and then pay in two steps\, please ensure you hae completed both of these steps.\n\n  AIAV reserves the right to reject and refund partial term payments made without prior agreement.\n\n
DTSTAMP:20190228T031714Z
END:VEVENT
BEGIN:VEVENT
UID:WILD_APRICOT_EVENT_2964152_SESSION_9
DTSTART:20180911T083000Z
DTEND:20180911T103000Z
SUMMARY:Term 3 Language Class 2018 *HAWTHORN* (session 9 of 10)
LOCATION:Melbourne University\, Hawthorn Campus.  442 Auburn Road\, Hawthorn\, Victoria\, 3122 (Melway 59 E2)
DESCRIPTION:https://www.aiav.org.au/event-2964152\n\nTerm 3 of our Hawthorn language classes commences on 17 July 2018 and the final class is on 18 September 2018. \n  There are 10 classes in total\, each lasting 2 hours.\n\n  There are a number of class levels. If you are unsure which class you should be in\, or if you believe you need to move levels\, please contact our language team at language@aiav.org.au.\n\n  It is essential that participants in the introductory (absolute beginner) class attend from the first week of term.\n  \n\n  You must be an AIAV member to enrol:\n\n  Language class enrolment is available for AIAV members only. If you are not yet a member\, click here to register as a member first. Then return to this page to enrol for classes. \n  \n\n  Variable registration (part of a term):\n  This option is for AIAV members who cannot attend a full term of classes. It is essential that you first discuss this with our language team (email language@aiav.org.au) and make a payment agreement. \n  This option is not available for those starting the introductory level class. \n\n  For those paying for variable registration\, log in and then click on this link to access the partial term payment page and pay for the number of classes you will be attending. This page is not accessible unless you are an AIAV member and are logged in. This process requires you to register and then pay in two steps\, please ensure you hae completed both of these steps.\n\n  AIAV reserves the right to reject and refund partial term payments made without prior agreement.\n\n
DTSTAMP:20190228T031714Z
END:VEVENT
BEGIN:VEVENT
UID:WILD_APRICOT_EVENT_2964152_SESSION_10
DTSTART:20180918T083000Z
DTEND:20180918T103000Z
SUMMARY:Term 3 Language Class 2018 *HAWTHORN* (session 10 of 10)
LOCATION:Melbourne University\, Hawthorn Campus.  442 Auburn Road\, Hawthorn\, Victoria\, 3122 (Melway 59 E2)
DESCRIPTION:https://www.aiav.org.au/event-2964152\n\nTerm 3 of our Hawthorn language classes commences on 17 July 2018 and the final class is on 18 September 2018. \n  There are 10 classes in total\, each lasting 2 hours.\n\n  There are a number of class levels. If you are unsure which class you should be in\, or if you believe you need to move levels\, please contact our language team at language@aiav.org.au.\n\n  It is essential that participants in the introductory (absolute beginner) class attend from the first week of term.\n  \n\n  You must be an AIAV member to enrol:\n\n  Language class enrolment is available for AIAV members only. If you are not yet a member\, click here to register as a member first. Then return to this page to enrol for classes. \n  \n\n  Variable registration (part of a term):\n  This option is for AIAV members who cannot attend a full term of classes. It is essential that you first discuss this with our language team (email language@aiav.org.au) and make a payment agreement. \n  This option is not available for those starting the introductory level class. \n\n  For those paying for variable registration\, log in and then click on this link to access the partial term payment page and pay for the number of classes you will be attending. This page is not accessible unless you are an AIAV member and are logged in. This process requires you to register and then pay in two steps\, please ensure you hae completed both of these steps.\n\n  AIAV reserves the right to reject and refund partial term payments made without prior agreement.\n\n
DTSTAMP:20190228T031714Z
END:VEVENT
END:VCALENDAR
