BEGIN:VCALENDAR
VERSION:2.0
METHOD:PUBLISH
BEGIN:VEVENT
UID:WILD_APRICOT_EVENT_3056136_SESSION_1
DTSTART:20181019T080000Z
DTEND:20181019T100000Z
SUMMARY:Annual General Meeting 2018
LOCATION:Upstairs meeting room\, East Melbourne Library\, 122 George St\, East Melbourne
DESCRIPTION:https://www.aiav.org.au/event-3056136\n\nThe Annual General Meeting of AIAV will be held in the upstairs meeting room of the East Melbourne Library\, 122 George St\, East Melbourne\, on Friday 19 October 2018\, starting at 7.00 pm.\n  All members are encouraged to attend the meeting\, which will include the election of all committee positions. Your membership must be current in order for you to be able to vote.\n  There is no cost to attend the meeting but please register so we have a sense of the numbers attending. Since we've just had our annual dinner\, there will be no dinner and guest speaker but finger food will be provided.\n\n
DTSTAMP:20190228T031615Z
END:VEVENT
END:VCALENDAR
