BEGIN:VCALENDAR
VERSION:2.0
METHOD:PUBLISH
BEGIN:VEVENT
UID:WILD_APRICOT_EVENT_3065762_SESSION_1
DTSTART:20181011T073000Z
DTEND:20181213T093000Z
SUMMARY:Term 4 Language Class 2018 *CITY*
LOCATION:Timber Room\, Multicultural Hub\, 506 Elizabeth St\, Melbourne
DESCRIPTION:https://www.aiav.org.au/event-3065762\n\n*Note these classes are held in the CBD. If you are looking for the Hawthorn classes\, go back!\n  Term 4 of our CBD language classes commences on 11 October 2018 and the final class is on 13 December. \n  There are 10 classes in total\, each lasting 2 hours. This class is for upper intermediate to advanced students. If you are unsure whether it is suitable for you\, please contact our language team at language@aiav.org.au. \n  You must be a member:\n\n  Language class enrolment is available for AIAV members only. If you are not yet a member\, click here to register as a member first. Then return to this page to enrol for classes. \n  Variable registration (part of a term):\n  This option is for AIAV members who cannot attend a full term of classes. It is essential that you first discuss this with our language team (email language@aiav.org.au) and make a payment agreement. \n  This option is not available for those starting the Beginner level class. \n\n  After logging in\, click on this link to access the partial term payment page and pay for the number of classes you will be attending. This page is not accessible unless you are an AIAV member and are logged in. \n  AIAV reserves the right to reject and refund partial term payments made without prior agreement.\n\n
DTSTAMP:20190228T031626Z
END:VEVENT
END:VCALENDAR
