BEGIN:VCALENDAR
VERSION:2.0
METHOD:PUBLISH
BEGIN:VEVENT
UID:WILD_APRICOT_EVENT_3122278_SESSION_1
DTSTART:20181109T090000Z
DTEND:20181109T110000Z
SUMMARY:Malam Ngobrol November 2018
LOCATION:20 Falconer Street\, Fitzroy North
DESCRIPTION:https://www.aiav.org.au/event-3122278\n\nAyo\, mari kita mengobrol!\n  You are warmly invited to come along to our regular monthly conversation evening and practise your Bahasa Indonesia in a social situation. Suitable for total beginners through to seasoned experts. Please bring something small to share for supper. Jangan malu (don't be shy!).\nLocation info:  The home of David Halstead at 20 Falconer Street\, Fitzroy North. It's a short walk from Rushall Station and the 11 tram along St Georges Road.\n  Please note: They are digging up the street outside David's place to replace the water main so parking will have to be found down the street or round the corner.\n
DTSTAMP:20190228T031551Z
END:VEVENT
END:VCALENDAR
