BEGIN:VCALENDAR
VERSION:2.0
METHOD:PUBLISH
BEGIN:VEVENT
UID:WILD_APRICOT_EVENT_3169697_SESSION_1
DTSTART:20190207T073000Z
DTEND:20190207T093000Z
SUMMARY:Term 1 Language Class 2019 *CITY* (session 1 of 9)
LOCATION:Orange and Red Rooms\, Multicultural Hub\, 506 Elizabeth St\, Melbourne
DESCRIPTION:https://www.aiav.org.au/event-3169697\n\nTerm 1 of our CBD language classes commences on 7 February 2019 and the final class is on 4 April . \n  There are 9 classes in total\, each lasting 2 hours.\n   In 2019\, two levels will run at the CBD venue (subject to numbers - please enrol early!).\n  One class will be at advanced level (significant prior studies/experience using Bahasa Indonesia\, at university level or equivalent)\, and one will be at intermediate level.\n  If you are unsure whether either of these levels are suitable for you\, please contact our language team at language@aiav.org.au. \n  If a student joins a class that is not at the correct level\, their teacher will discuss this with them and provide options\, including moving to the other CBD class\, or a class at the Hawthorn venue if this is a more appropriate level for their skills/needs.\n\n  \n\n  You must be a member:\n\n  Language class enrolment is available for AIAV members only. If you are not yet a member\, click here to register as a member first. Then return to this page to enrol for classes. \n  Variable registration (part of a term):\n  This option is for AIAV members who cannot attend a full term of classes. It is essential that you first discuss this with our language team (email language@aiav.org.au) and make a payment agreement. \n  After logging in\, click on this link to access the partial term payment page and pay for the number of classes you will be attending. This page is not accessible unless you are an AIAV member and are logged in. \n  AIAV reserves the right to reject and refund partial term payments made without prior agreement.\n\n
DTSTAMP:20190228T031344Z
END:VEVENT
BEGIN:VEVENT
UID:WILD_APRICOT_EVENT_3169697_SESSION_2
DTSTART:20190214T073000Z
DTEND:20190214T093000Z
SUMMARY:Term 1 Language Class 2019 *CITY* (session 2 of 9)
LOCATION:Orange and Red Rooms\, Multicultural Hub\, 506 Elizabeth St\, Melbourne
DESCRIPTION:https://www.aiav.org.au/event-3169697\n\nTerm 1 of our CBD language classes commences on 7 February 2019 and the final class is on 4 April . \n  There are 9 classes in total\, each lasting 2 hours.\n   In 2019\, two levels will run at the CBD venue (subject to numbers - please enrol early!).\n  One class will be at advanced level (significant prior studies/experience using Bahasa Indonesia\, at university level or equivalent)\, and one will be at intermediate level.\n  If you are unsure whether either of these levels are suitable for you\, please contact our language team at language@aiav.org.au. \n  If a student joins a class that is not at the correct level\, their teacher will discuss this with them and provide options\, including moving to the other CBD class\, or a class at the Hawthorn venue if this is a more appropriate level for their skills/needs.\n\n  \n\n  You must be a member:\n\n  Language class enrolment is available for AIAV members only. If you are not yet a member\, click here to register as a member first. Then return to this page to enrol for classes. \n  Variable registration (part of a term):\n  This option is for AIAV members who cannot attend a full term of classes. It is essential that you first discuss this with our language team (email language@aiav.org.au) and make a payment agreement. \n  After logging in\, click on this link to access the partial term payment page and pay for the number of classes you will be attending. This page is not accessible unless you are an AIAV member and are logged in. \n  AIAV reserves the right to reject and refund partial term payments made without prior agreement.\n\n
DTSTAMP:20190228T031344Z
END:VEVENT
BEGIN:VEVENT
UID:WILD_APRICOT_EVENT_3169697_SESSION_3
DTSTART:20190221T073000Z
DTEND:20190221T093000Z
SUMMARY:Term 1 Language Class 2019 *CITY* (session 3 of 9)
LOCATION:Orange and Red Rooms\, Multicultural Hub\, 506 Elizabeth St\, Melbourne
DESCRIPTION:https://www.aiav.org.au/event-3169697\n\nTerm 1 of our CBD language classes commences on 7 February 2019 and the final class is on 4 April . \n  There are 9 classes in total\, each lasting 2 hours.\n   In 2019\, two levels will run at the CBD venue (subject to numbers - please enrol early!).\n  One class will be at advanced level (significant prior studies/experience using Bahasa Indonesia\, at university level or equivalent)\, and one will be at intermediate level.\n  If you are unsure whether either of these levels are suitable for you\, please contact our language team at language@aiav.org.au. \n  If a student joins a class that is not at the correct level\, their teacher will discuss this with them and provide options\, including moving to the other CBD class\, or a class at the Hawthorn venue if this is a more appropriate level for their skills/needs.\n\n  \n\n  You must be a member:\n\n  Language class enrolment is available for AIAV members only. If you are not yet a member\, click here to register as a member first. Then return to this page to enrol for classes. \n  Variable registration (part of a term):\n  This option is for AIAV members who cannot attend a full term of classes. It is essential that you first discuss this with our language team (email language@aiav.org.au) and make a payment agreement. \n  After logging in\, click on this link to access the partial term payment page and pay for the number of classes you will be attending. This page is not accessible unless you are an AIAV member and are logged in. \n  AIAV reserves the right to reject and refund partial term payments made without prior agreement.\n\n
DTSTAMP:20190228T031344Z
END:VEVENT
BEGIN:VEVENT
UID:WILD_APRICOT_EVENT_3169697_SESSION_4
DTSTART:20190228T073000Z
DTEND:20190228T093000Z
SUMMARY:Term 1 Language Class 2019 *CITY* (session 4 of 9)
LOCATION:Orange and Red Rooms\, Multicultural Hub\, 506 Elizabeth St\, Melbourne
DESCRIPTION:https://www.aiav.org.au/event-3169697\n\nTerm 1 of our CBD language classes commences on 7 February 2019 and the final class is on 4 April . \n  There are 9 classes in total\, each lasting 2 hours.\n   In 2019\, two levels will run at the CBD venue (subject to numbers - please enrol early!).\n  One class will be at advanced level (significant prior studies/experience using Bahasa Indonesia\, at university level or equivalent)\, and one will be at intermediate level.\n  If you are unsure whether either of these levels are suitable for you\, please contact our language team at language@aiav.org.au. \n  If a student joins a class that is not at the correct level\, their teacher will discuss this with them and provide options\, including moving to the other CBD class\, or a class at the Hawthorn venue if this is a more appropriate level for their skills/needs.\n\n  \n\n  You must be a member:\n\n  Language class enrolment is available for AIAV members only. If you are not yet a member\, click here to register as a member first. Then return to this page to enrol for classes. \n  Variable registration (part of a term):\n  This option is for AIAV members who cannot attend a full term of classes. It is essential that you first discuss this with our language team (email language@aiav.org.au) and make a payment agreement. \n  After logging in\, click on this link to access the partial term payment page and pay for the number of classes you will be attending. This page is not accessible unless you are an AIAV member and are logged in. \n  AIAV reserves the right to reject and refund partial term payments made without prior agreement.\n\n
DTSTAMP:20190228T031344Z
END:VEVENT
BEGIN:VEVENT
UID:WILD_APRICOT_EVENT_3169697_SESSION_5
DTSTART:20190307T073000Z
DTEND:20190307T093000Z
SUMMARY:Term 1 Language Class 2019 *CITY* (session 5 of 9)
LOCATION:Orange and Red Rooms\, Multicultural Hub\, 506 Elizabeth St\, Melbourne
DESCRIPTION:https://www.aiav.org.au/event-3169697\n\nTerm 1 of our CBD language classes commences on 7 February 2019 and the final class is on 4 April . \n  There are 9 classes in total\, each lasting 2 hours.\n   In 2019\, two levels will run at the CBD venue (subject to numbers - please enrol early!).\n  One class will be at advanced level (significant prior studies/experience using Bahasa Indonesia\, at university level or equivalent)\, and one will be at intermediate level.\n  If you are unsure whether either of these levels are suitable for you\, please contact our language team at language@aiav.org.au. \n  If a student joins a class that is not at the correct level\, their teacher will discuss this with them and provide options\, including moving to the other CBD class\, or a class at the Hawthorn venue if this is a more appropriate level for their skills/needs.\n\n  \n\n  You must be a member:\n\n  Language class enrolment is available for AIAV members only. If you are not yet a member\, click here to register as a member first. Then return to this page to enrol for classes. \n  Variable registration (part of a term):\n  This option is for AIAV members who cannot attend a full term of classes. It is essential that you first discuss this with our language team (email language@aiav.org.au) and make a payment agreement. \n  After logging in\, click on this link to access the partial term payment page and pay for the number of classes you will be attending. This page is not accessible unless you are an AIAV member and are logged in. \n  AIAV reserves the right to reject and refund partial term payments made without prior agreement.\n\n
DTSTAMP:20190228T031344Z
END:VEVENT
BEGIN:VEVENT
UID:WILD_APRICOT_EVENT_3169697_SESSION_6
DTSTART:20190314T073000Z
DTEND:20190314T093000Z
SUMMARY:Term 1 Language Class 2019 *CITY* (session 6 of 9)
LOCATION:Orange and Red Rooms\, Multicultural Hub\, 506 Elizabeth St\, Melbourne
DESCRIPTION:https://www.aiav.org.au/event-3169697\n\nTerm 1 of our CBD language classes commences on 7 February 2019 and the final class is on 4 April . \n  There are 9 classes in total\, each lasting 2 hours.\n   In 2019\, two levels will run at the CBD venue (subject to numbers - please enrol early!).\n  One class will be at advanced level (significant prior studies/experience using Bahasa Indonesia\, at university level or equivalent)\, and one will be at intermediate level.\n  If you are unsure whether either of these levels are suitable for you\, please contact our language team at language@aiav.org.au. \n  If a student joins a class that is not at the correct level\, their teacher will discuss this with them and provide options\, including moving to the other CBD class\, or a class at the Hawthorn venue if this is a more appropriate level for their skills/needs.\n\n  \n\n  You must be a member:\n\n  Language class enrolment is available for AIAV members only. If you are not yet a member\, click here to register as a member first. Then return to this page to enrol for classes. \n  Variable registration (part of a term):\n  This option is for AIAV members who cannot attend a full term of classes. It is essential that you first discuss this with our language team (email language@aiav.org.au) and make a payment agreement. \n  After logging in\, click on this link to access the partial term payment page and pay for the number of classes you will be attending. This page is not accessible unless you are an AIAV member and are logged in. \n  AIAV reserves the right to reject and refund partial term payments made without prior agreement.\n\n
DTSTAMP:20190228T031344Z
END:VEVENT
BEGIN:VEVENT
UID:WILD_APRICOT_EVENT_3169697_SESSION_7
DTSTART:20190321T073000Z
DTEND:20190321T093000Z
SUMMARY:Term 1 Language Class 2019 *CITY* (session 7 of 9)
LOCATION:Orange and Red Rooms\, Multicultural Hub\, 506 Elizabeth St\, Melbourne
DESCRIPTION:https://www.aiav.org.au/event-3169697\n\nTerm 1 of our CBD language classes commences on 7 February 2019 and the final class is on 4 April . \n  There are 9 classes in total\, each lasting 2 hours.\n   In 2019\, two levels will run at the CBD venue (subject to numbers - please enrol early!).\n  One class will be at advanced level (significant prior studies/experience using Bahasa Indonesia\, at university level or equivalent)\, and one will be at intermediate level.\n  If you are unsure whether either of these levels are suitable for you\, please contact our language team at language@aiav.org.au. \n  If a student joins a class that is not at the correct level\, their teacher will discuss this with them and provide options\, including moving to the other CBD class\, or a class at the Hawthorn venue if this is a more appropriate level for their skills/needs.\n\n  \n\n  You must be a member:\n\n  Language class enrolment is available for AIAV members only. If you are not yet a member\, click here to register as a member first. Then return to this page to enrol for classes. \n  Variable registration (part of a term):\n  This option is for AIAV members who cannot attend a full term of classes. It is essential that you first discuss this with our language team (email language@aiav.org.au) and make a payment agreement. \n  After logging in\, click on this link to access the partial term payment page and pay for the number of classes you will be attending. This page is not accessible unless you are an AIAV member and are logged in. \n  AIAV reserves the right to reject and refund partial term payments made without prior agreement.\n\n
DTSTAMP:20190228T031344Z
END:VEVENT
BEGIN:VEVENT
UID:WILD_APRICOT_EVENT_3169697_SESSION_8
DTSTART:20190328T073000Z
DTEND:20190328T093000Z
SUMMARY:Term 1 Language Class 2019 *CITY* (session 8 of 9)
LOCATION:Orange and Red Rooms\, Multicultural Hub\, 506 Elizabeth St\, Melbourne
DESCRIPTION:https://www.aiav.org.au/event-3169697\n\nTerm 1 of our CBD language classes commences on 7 February 2019 and the final class is on 4 April . \n  There are 9 classes in total\, each lasting 2 hours.\n   In 2019\, two levels will run at the CBD venue (subject to numbers - please enrol early!).\n  One class will be at advanced level (significant prior studies/experience using Bahasa Indonesia\, at university level or equivalent)\, and one will be at intermediate level.\n  If you are unsure whether either of these levels are suitable for you\, please contact our language team at language@aiav.org.au. \n  If a student joins a class that is not at the correct level\, their teacher will discuss this with them and provide options\, including moving to the other CBD class\, or a class at the Hawthorn venue if this is a more appropriate level for their skills/needs.\n\n  \n\n  You must be a member:\n\n  Language class enrolment is available for AIAV members only. If you are not yet a member\, click here to register as a member first. Then return to this page to enrol for classes. \n  Variable registration (part of a term):\n  This option is for AIAV members who cannot attend a full term of classes. It is essential that you first discuss this with our language team (email language@aiav.org.au) and make a payment agreement. \n  After logging in\, click on this link to access the partial term payment page and pay for the number of classes you will be attending. This page is not accessible unless you are an AIAV member and are logged in. \n  AIAV reserves the right to reject and refund partial term payments made without prior agreement.\n\n
DTSTAMP:20190228T031344Z
END:VEVENT
BEGIN:VEVENT
UID:WILD_APRICOT_EVENT_3169697_SESSION_9
DTSTART:20190404T073000Z
DTEND:20190404T093000Z
SUMMARY:Term 1 Language Class 2019 *CITY* (session 9 of 9)
LOCATION:Orange and Red Rooms\, Multicultural Hub\, 506 Elizabeth St\, Melbourne
DESCRIPTION:https://www.aiav.org.au/event-3169697\n\nTerm 1 of our CBD language classes commences on 7 February 2019 and the final class is on 4 April . \n  There are 9 classes in total\, each lasting 2 hours.\n   In 2019\, two levels will run at the CBD venue (subject to numbers - please enrol early!).\n  One class will be at advanced level (significant prior studies/experience using Bahasa Indonesia\, at university level or equivalent)\, and one will be at intermediate level.\n  If you are unsure whether either of these levels are suitable for you\, please contact our language team at language@aiav.org.au. \n  If a student joins a class that is not at the correct level\, their teacher will discuss this with them and provide options\, including moving to the other CBD class\, or a class at the Hawthorn venue if this is a more appropriate level for their skills/needs.\n\n  \n\n  You must be a member:\n\n  Language class enrolment is available for AIAV members only. If you are not yet a member\, click here to register as a member first. Then return to this page to enrol for classes. \n  Variable registration (part of a term):\n  This option is for AIAV members who cannot attend a full term of classes. It is essential that you first discuss this with our language team (email language@aiav.org.au) and make a payment agreement. \n  After logging in\, click on this link to access the partial term payment page and pay for the number of classes you will be attending. This page is not accessible unless you are an AIAV member and are logged in. \n  AIAV reserves the right to reject and refund partial term payments made without prior agreement.\n\n
DTSTAMP:20190228T031344Z
END:VEVENT
END:VCALENDAR
